BEGIN:VCALENDAR
VERSION:2.0
PRODID:-//AvisComunaleGenova - ECPv6.11.2//NONSGML v1.0//EN
CALSCALE:GREGORIAN
METHOD:PUBLISH
X-WR-CALNAME:AvisComunaleGenova
X-ORIGINAL-URL:https://www.aviscomunalegenova.it
X-WR-CALDESC:Events for AvisComunaleGenova
REFRESH-INTERVAL;VALUE=DURATION:PT1H
X-Robots-Tag:noindex
X-PUBLISHED-TTL:PT1H
BEGIN:VTIMEZONE
TZID:UTC
BEGIN:STANDARD
TZOFFSETFROM:+0000
TZOFFSETTO:+0000
TZNAME:UTC
DTSTART:20250101T000000
END:STANDARD
END:VTIMEZONE
BEGIN:VEVENT
DTSTART;TZID=UTC:20250801T073000
DTEND;TZID=UTC:20250801T113000
DTSTAMP:20260421T193855
CREATED:20250716T132524Z
LAST-MODIFIED:20250716T132524Z
UID:3248-1754033400-1754047800@www.aviscomunalegenova.it
SUMMARY:RECCO CROCE
DESCRIPTION:
URL:https://www.aviscomunalegenova.it/event/recco-croce/
LOCATION:Via Milite Ignoto\, 17\, Croce Verde Recco
CATEGORIES:Sangue
ORGANIZER;CN="AVIS Comunale Genova":MAILTO:genova.comunale@avis.it
END:VEVENT
BEGIN:VEVENT
DTSTART;TZID=UTC:20250802T073000
DTEND;TZID=UTC:20250802T120000
DTSTAMP:20260421T193855
CREATED:20250716T133301Z
LAST-MODIFIED:20250716T133301Z
UID:3256-1754119800-1754136000@www.aviscomunalegenova.it
SUMMARY:SESTRI PONENTE
DESCRIPTION:
URL:https://www.aviscomunalegenova.it/event/sestri-ponente-17/
LOCATION:Via Sestri\, 35
CATEGORIES:Sangue
END:VEVENT
BEGIN:VEVENT
DTSTART;TZID=UTC:20250803T073000
DTEND;TZID=UTC:20250803T123000
DTSTAMP:20260421T193855
CREATED:20250716T133614Z
LAST-MODIFIED:20250716T133624Z
UID:3265-1754206200-1754224200@www.aviscomunalegenova.it
SUMMARY:VOLTRI centro fisso
DESCRIPTION:
URL:https://www.aviscomunalegenova.it/event/voltri-centro-fisso/
LOCATION:Vico Limisso\, 4/4
CATEGORIES:Plasma,Sangue
END:VEVENT
BEGIN:VEVENT
DTSTART;TZID=UTC:20250805T140000
DTEND;TZID=UTC:20250805T180000
DTSTAMP:20260421T193855
CREATED:20250716T133357Z
LAST-MODIFIED:20250716T133357Z
UID:3259-1754402400-1754416800@www.aviscomunalegenova.it
SUMMARY:SESTRI PONENTE
DESCRIPTION:
URL:https://www.aviscomunalegenova.it/event/sestri-ponente-18/
LOCATION:Via Sestri\, 35
CATEGORIES:Sangue
END:VEVENT
BEGIN:VEVENT
DTSTART;TZID=UTC:20250806T073000
DTEND;TZID=UTC:20250806T120000
DTSTAMP:20260421T193855
CREATED:20250716T132850Z
LAST-MODIFIED:20250716T132850Z
UID:3250-1754465400-1754481600@www.aviscomunalegenova.it
SUMMARY:PIAZZA FONTANE MAROSE
DESCRIPTION:
URL:https://www.aviscomunalegenova.it/event/piazza-fontane-marose-22/
LOCATION:Piazza Fontane Marose
CATEGORIES:Sangue
END:VEVENT
BEGIN:VEVENT
DTSTART;TZID=UTC:20250808T073000
DTEND;TZID=UTC:20250808T233000
DTSTAMP:20260421T193855
CREATED:20250716T134244Z
LAST-MODIFIED:20250716T134244Z
UID:3279-1754638200-1754695800@www.aviscomunalegenova.it
SUMMARY:PEGLI centro fisso
DESCRIPTION:
URL:https://www.aviscomunalegenova.it/event/pegli-centro-fisso/
LOCATION:Via Cialli\, 1A
CATEGORIES:Sangue
END:VEVENT
BEGIN:VEVENT
DTSTART;TZID=UTC:20250810T083000
DTEND;TZID=UTC:20250810T130000
DTSTAMP:20260421T193855
CREATED:20250716T134438Z
LAST-MODIFIED:20250716T134438Z
UID:3283-1754814600-1754830800@www.aviscomunalegenova.it
SUMMARY:IPERCOOP Bolzaneto
DESCRIPTION:
URL:https://www.aviscomunalegenova.it/event/ipercoop-bolzaneto-3/
LOCATION:Via Romairone\, 10
CATEGORIES:Sangue
END:VEVENT
BEGIN:VEVENT
DTSTART;TZID=UTC:20250811T140000
DTEND;TZID=UTC:20250811T180000
DTSTAMP:20260421T193855
CREATED:20250716T133932Z
LAST-MODIFIED:20250716T133932Z
UID:3271-1754920800-1754935200@www.aviscomunalegenova.it
SUMMARY:CT San Martino
DESCRIPTION:
URL:https://www.aviscomunalegenova.it/event/ct-san-martino-18/
LOCATION:Largo Rosanna Benzi\, 10\, Padiglione Monoblocco - Centro trasfusionale Ospedale San Martino
CATEGORIES:Plasma,Sangue
END:VEVENT
BEGIN:VEVENT
DTSTART;TZID=UTC:20250813T073000
DTEND;TZID=UTC:20250813T113000
DTSTAMP:20260421T193855
CREATED:20250716T133017Z
LAST-MODIFIED:20250716T133032Z
UID:3252-1755070200-1755084600@www.aviscomunalegenova.it
SUMMARY:PIAZZA FONTANE MAROSE
DESCRIPTION:
URL:https://www.aviscomunalegenova.it/event/piazza-fontane-marose-23/
LOCATION:Piazza Fontane Marose
CATEGORIES:Sangue
END:VEVENT
BEGIN:VEVENT
DTSTART;TZID=UTC:20250816T080000
DTEND;TZID=UTC:20250816T120000
DTSTAMP:20260421T193855
CREATED:20250716T133438Z
LAST-MODIFIED:20250716T133438Z
UID:3261-1755331200-1755345600@www.aviscomunalegenova.it
SUMMARY:SESTRI PONENTE
DESCRIPTION:
URL:https://www.aviscomunalegenova.it/event/sestri-ponente-19/
CATEGORIES:Sangue
END:VEVENT
BEGIN:VEVENT
DTSTART;TZID=UTC:20250817T073000
DTEND;TZID=UTC:20250817T123000
DTSTAMP:20260421T193855
CREATED:20250716T133715Z
LAST-MODIFIED:20250716T133715Z
UID:3267-1755415800-1755433800@www.aviscomunalegenova.it
SUMMARY:VOLTRI centro fisso
DESCRIPTION:
URL:https://www.aviscomunalegenova.it/event/voltri-centro-fisso-2/
LOCATION:Vico Limisso\, 4/4
CATEGORIES:Plasma,Sangue
END:VEVENT
BEGIN:VEVENT
DTSTART;TZID=UTC:20250818T140000
DTEND;TZID=UTC:20250818T180000
DTSTAMP:20260421T193855
CREATED:20250716T134011Z
LAST-MODIFIED:20250716T134011Z
UID:3273-1755525600-1755540000@www.aviscomunalegenova.it
SUMMARY:CT San Martino
DESCRIPTION:
URL:https://www.aviscomunalegenova.it/event/ct-san-martino-19/
LOCATION:Largo Rosanna Benzi\, 10\, Padiglione Monoblocco - Centro trasfusionale Ospedale San Martino
CATEGORIES:Plasma,Sangue
END:VEVENT
BEGIN:VEVENT
DTSTART;TZID=UTC:20250823T083000
DTEND;TZID=UTC:20250823T130000
DTSTAMP:20260421T193855
CREATED:20250716T134527Z
LAST-MODIFIED:20250716T134527Z
UID:3285-1755937800-1755954000@www.aviscomunalegenova.it
SUMMARY:IPERCOOP Bolzaneto
DESCRIPTION:
URL:https://www.aviscomunalegenova.it/event/ipercoop-bolzaneto-4/
LOCATION:Via Romairone\, 10
CATEGORIES:Sangue
END:VEVENT
BEGIN:VEVENT
DTSTART;TZID=UTC:20250825T140000
DTEND;TZID=UTC:20250825T180000
DTSTAMP:20260421T193855
CREATED:20250716T134056Z
LAST-MODIFIED:20250716T134056Z
UID:3275-1756130400-1756144800@www.aviscomunalegenova.it
SUMMARY:CT San Martino
DESCRIPTION:
URL:https://www.aviscomunalegenova.it/event/ct-san-martino-20/
LOCATION:Largo Rosanna Benzi\, 10\, Padiglione Monoblocco - Centro trasfusionale Ospedale San Martino
CATEGORIES:Plasma,Sangue
END:VEVENT
BEGIN:VEVENT
DTSTART;TZID=UTC:20250826T140000
DTEND;TZID=UTC:20250826T180000
DTSTAMP:20260421T193855
CREATED:20250716T133522Z
LAST-MODIFIED:20250716T133522Z
UID:3263-1756216800-1756231200@www.aviscomunalegenova.it
SUMMARY:SESTRI PONENTE
DESCRIPTION:
URL:https://www.aviscomunalegenova.it/event/sestri-ponente-20/
LOCATION:Via Sestri\, 35
CATEGORIES:Sangue
END:VEVENT
BEGIN:VEVENT
DTSTART;TZID=UTC:20250827T073000
DTEND;TZID=UTC:20250827T110000
DTSTAMP:20260421T193855
CREATED:20250716T133119Z
LAST-MODIFIED:20250716T133119Z
UID:3254-1756279800-1756292400@www.aviscomunalegenova.it
SUMMARY:PIAZZA FONTANER MAROSE
DESCRIPTION:
URL:https://www.aviscomunalegenova.it/event/piazza-fontaner-marose/
LOCATION:Piazza Fontane Marose
CATEGORIES:Sangue
END:VEVENT
BEGIN:VEVENT
DTSTART;TZID=UTC:20250831T080000
DTEND;TZID=UTC:20250831T080000
DTSTAMP:20260421T193855
CREATED:20250716T134745Z
LAST-MODIFIED:20250716T135142Z
UID:3291-1756627200-1756627200@www.aviscomunalegenova.it
SUMMARY:PEGLI centro fisso
DESCRIPTION:
URL:https://www.aviscomunalegenova.it/event/pegli-centro-fisso-2/
LOCATION:Via Cialli\, 1A
CATEGORIES:Sangue
END:VEVENT
END:VCALENDAR