BEGIN:VCALENDAR
VERSION:2.0
PRODID:-//AvisComunaleGenova - ECPv6.11.2//NONSGML v1.0//EN
CALSCALE:GREGORIAN
METHOD:PUBLISH
X-ORIGINAL-URL:https://www.aviscomunalegenova.it
X-WR-CALDESC:Events for AvisComunaleGenova
REFRESH-INTERVAL;VALUE=DURATION:PT1H
X-Robots-Tag:noindex
X-PUBLISHED-TTL:PT1H
BEGIN:VTIMEZONE
TZID:UTC
BEGIN:STANDARD
TZOFFSETFROM:+0000
TZOFFSETTO:+0000
TZNAME:UTC
DTSTART:20260101T000000
END:STANDARD
END:VTIMEZONE
BEGIN:VEVENT
DTSTART;TZID=UTC:20260322T080000
DTEND;TZID=UTC:20260322T120000
DTSTAMP:20260421T175619
CREATED:20260316T120131Z
LAST-MODIFIED:20260316T120131Z
UID:3797-1774166400-1774180800@www.aviscomunalegenova.it
SUMMARY:SERRA RICCO' - croce
DESCRIPTION:
URL:https://www.aviscomunalegenova.it/event/serra-ricco-croce-3/
LOCATION:Via Fratelli Canepa\, 1 – Serra Riccò\, Croce Bianca Valsecca
CATEGORIES:Sangue
END:VEVENT
BEGIN:VEVENT
DTSTART;TZID=UTC:20260323T140000
DTEND;TZID=UTC:20260323T180000
DTSTAMP:20260421T175619
CREATED:20260316T100043Z
LAST-MODIFIED:20260316T100043Z
UID:3757-1774274400-1774288800@www.aviscomunalegenova.it
SUMMARY:CT San Martino
DESCRIPTION:
URL:https://www.aviscomunalegenova.it/event/ct-san-martino-48/
LOCATION:Largo Rosanna Benzi\, 10\, Padiglione Monoblocco - Centro trasfusionale Ospedale San Martino
CATEGORIES:Plasma,Sangue
END:VEVENT
BEGIN:VEVENT
DTSTART;TZID=UTC:20260324T080000
DTEND;TZID=UTC:20260324T120000
DTSTAMP:20260421T175619
CREATED:20260316T115738Z
LAST-MODIFIED:20260316T115738Z
UID:3787-1774339200-1774353600@www.aviscomunalegenova.it
SUMMARY:IIT
DESCRIPTION:
URL:https://www.aviscomunalegenova.it/event/iit-10/
LOCATION:Via Morego\, 30
CATEGORIES:Sangue
END:VEVENT
BEGIN:VEVENT
DTSTART;TZID=UTC:20260325T073000
DTEND;TZID=UTC:20260325T120000
DTSTAMP:20260421T175619
CREATED:20260316T105428Z
LAST-MODIFIED:20260316T105633Z
UID:3771-1774423800-1774440000@www.aviscomunalegenova.it
SUMMARY:PIAZZA F. MAROSE
DESCRIPTION:
URL:https://www.aviscomunalegenova.it/event/piazza-f-marose-18/
LOCATION:Piazza Fontane Marose
CATEGORIES:Sangue
END:VEVENT
BEGIN:VEVENT
DTSTART;TZID=UTC:20260326T140000
DTEND;TZID=UTC:20260326T180000
DTSTAMP:20260421T175619
CREATED:20260316T120037Z
LAST-MODIFIED:20260316T120037Z
UID:3795-1774533600-1774548000@www.aviscomunalegenova.it
SUMMARY:SESTRI PONENTE
DESCRIPTION:
URL:https://www.aviscomunalegenova.it/event/sestri-ponente-52/
LOCATION:Via Sestri\, 35
CATEGORIES:Sangue
END:VEVENT
BEGIN:VEVENT
DTSTART;TZID=UTC:20260327T073000
DTEND;TZID=UTC:20260327T113000
DTSTAMP:20260421T175619
CREATED:20260316T120226Z
LAST-MODIFIED:20260316T120226Z
UID:3799-1774596600-1774611000@www.aviscomunalegenova.it
SUMMARY:ARENZANO
DESCRIPTION:
URL:https://www.aviscomunalegenova.it/event/arenzano-11/
LOCATION:Via Bocca
CATEGORIES:Sangue
END:VEVENT
BEGIN:VEVENT
DTSTART;TZID=UTC:20260327T080000
DTEND;TZID=UTC:20260327T120000
DTSTAMP:20260421T175619
CREATED:20260316T120316Z
LAST-MODIFIED:20260316T120316Z
UID:3801-1774598400-1774612800@www.aviscomunalegenova.it
SUMMARY:NERVI - croce
DESCRIPTION:
URL:https://www.aviscomunalegenova.it/event/nervi-croce-3/
LOCATION:Via Guglielmo Oberdan\, 105r\, Pubblica Assistenza Nerviese
CATEGORIES:Sangue
END:VEVENT
BEGIN:VEVENT
DTSTART;TZID=UTC:20260328T083000
DTEND;TZID=UTC:20260328T123000
DTSTAMP:20260421T175619
CREATED:20260316T120433Z
LAST-MODIFIED:20260316T120433Z
UID:3803-1774686600-1774701000@www.aviscomunalegenova.it
SUMMARY:IPERCOOP Bolzaneto
DESCRIPTION:
URL:https://www.aviscomunalegenova.it/event/ipercoop-bolzaneto-20/
LOCATION:Via Romairone\, 10
CATEGORIES:Sangue
END:VEVENT
BEGIN:VEVENT
DTSTART;TZID=UTC:20260329T080000
DTEND;TZID=UTC:20260329T120000
DTSTAMP:20260421T175619
CREATED:20260316T120511Z
LAST-MODIFIED:20260316T120511Z
UID:3805-1774771200-1774785600@www.aviscomunalegenova.it
SUMMARY:PEGLI - sede
DESCRIPTION:
URL:https://www.aviscomunalegenova.it/event/pegli-sede/
LOCATION:Via Cialli\, 1A
CATEGORIES:Sangue
END:VEVENT
BEGIN:VEVENT
DTSTART;TZID=UTC:20260329T080000
DTEND;TZID=UTC:20260329T120000
DTSTAMP:20260421T175619
CREATED:20260316T120558Z
LAST-MODIFIED:20260316T120558Z
UID:3807-1774771200-1774785600@www.aviscomunalegenova.it
SUMMARY:RECCO - Piazza
DESCRIPTION:
URL:https://www.aviscomunalegenova.it/event/recco-piazza-3/
LOCATION:Piazza Nicoloso da Recco
CATEGORIES:Sangue
END:VEVENT
BEGIN:VEVENT
DTSTART;TZID=UTC:20260330T140000
DTEND;TZID=UTC:20260330T180000
DTSTAMP:20260421T175619
CREATED:20260316T100132Z
LAST-MODIFIED:20260316T100132Z
UID:3759-1774879200-1774893600@www.aviscomunalegenova.it
SUMMARY:CT San Martino
DESCRIPTION:
URL:https://www.aviscomunalegenova.it/event/ct-san-martino-49/
LOCATION:Largo Rosanna Benzi\, 10\, Padiglione Monoblocco - Centro trasfusionale Ospedale San Martino
CATEGORIES:Plasma,Sangue
END:VEVENT
BEGIN:VEVENT
DTSTART;TZID=UTC:20260401T073000
DTEND;TZID=UTC:20260401T120000
DTSTAMP:20260421T175619
CREATED:20260316T105536Z
LAST-MODIFIED:20260316T105536Z
UID:3773-1775028600-1775044800@www.aviscomunalegenova.it
SUMMARY:PIAZZA F. MAROSE
DESCRIPTION:
URL:https://www.aviscomunalegenova.it/event/piazza-f-marose-19/
LOCATION:Piazza Fontane Marose
CATEGORIES:Sangue
END:VEVENT
BEGIN:VEVENT
DTSTART;TZID=UTC:20260403T073000
DTEND;TZID=UTC:20260403T113000
DTSTAMP:20260421T175619
CREATED:20260317T082748Z
LAST-MODIFIED:20260317T082748Z
UID:3809-1775201400-1775215800@www.aviscomunalegenova.it
SUMMARY:RECCO - croce
DESCRIPTION:
URL:https://www.aviscomunalegenova.it/event/recco-croce-8/
LOCATION:Via Milite Ignoto\, 17\, Croce Verde Recco
CATEGORIES:Sangue
END:VEVENT
BEGIN:VEVENT
DTSTART;TZID=UTC:20260404T073000
DTEND;TZID=UTC:20260404T123000
DTSTAMP:20260421T175619
CREATED:20260317T083231Z
LAST-MODIFIED:20260317T083231Z
UID:3821-1775287800-1775305800@www.aviscomunalegenova.it
SUMMARY:VOLTRI - sede
DESCRIPTION:
URL:https://www.aviscomunalegenova.it/event/voltri-sede/
LOCATION:Vico Limisso\, 4/4
CATEGORIES:Plasma,Sangue
END:VEVENT
BEGIN:VEVENT
DTSTART;TZID=UTC:20260404T080000
DTEND;TZID=UTC:20260404T120000
DTSTAMP:20260421T175619
CREATED:20260317T082831Z
LAST-MODIFIED:20260317T082831Z
UID:3811-1775289600-1775304000@www.aviscomunalegenova.it
SUMMARY:SESTRI PONENTE
DESCRIPTION:
URL:https://www.aviscomunalegenova.it/event/sestri-ponente-53/
LOCATION:Via Sestri\, 35
CATEGORIES:Sangue
END:VEVENT
BEGIN:VEVENT
DTSTART;TZID=UTC:20260407T100000
DTEND;TZID=UTC:20260407T140000
DTSTAMP:20260421T175619
CREATED:20260317T083408Z
LAST-MODIFIED:20260320T111127Z
UID:3825-1775556000-1775570400@www.aviscomunalegenova.it
SUMMARY:MOG
DESCRIPTION:
URL:https://www.aviscomunalegenova.it/event/mog/
LOCATION:Via Galata
CATEGORIES:Sangue
END:VEVENT
BEGIN:VEVENT
DTSTART;TZID=UTC:20260408T073000
DTEND;TZID=UTC:20260408T120000
DTSTAMP:20260421T175619
CREATED:20260316T105728Z
LAST-MODIFIED:20260316T105728Z
UID:3776-1775633400-1775649600@www.aviscomunalegenova.it
SUMMARY:PIAZZA F. MAROSE
DESCRIPTION:
URL:https://www.aviscomunalegenova.it/event/piazza-f-marose-20/
LOCATION:Piazza Fontane Marose
CATEGORIES:Sangue
END:VEVENT
BEGIN:VEVENT
DTSTART;TZID=UTC:20260409T140000
DTEND;TZID=UTC:20260409T180000
DTSTAMP:20260421T175619
CREATED:20260317T082946Z
LAST-MODIFIED:20260317T082946Z
UID:3815-1775743200-1775757600@www.aviscomunalegenova.it
SUMMARY:SESTRI PONENTE
DESCRIPTION:
URL:https://www.aviscomunalegenova.it/event/sestri-ponente-55/
LOCATION:Via Sestri\, 35
CATEGORIES:Sangue
END:VEVENT
BEGIN:VEVENT
DTSTART;TZID=UTC:20260410T080000
DTEND;TZID=UTC:20260410T120000
DTSTAMP:20260421T175619
CREATED:20260317T083458Z
LAST-MODIFIED:20260317T083458Z
UID:3827-1775808000-1775822400@www.aviscomunalegenova.it
SUMMARY:PONTEDECIMO - mercato
DESCRIPTION:
URL:https://www.aviscomunalegenova.it/event/pontedecimo-mercato-5/
LOCATION:Piazza dei Partigiani Caduti per la Libertà
CATEGORIES:Sangue
END:VEVENT
BEGIN:VEVENT
DTSTART;TZID=UTC:20260411T080000
DTEND;TZID=UTC:20260411T120000
DTSTAMP:20260421T175619
CREATED:20260317T083123Z
LAST-MODIFIED:20260331T090926Z
UID:3819-1775894400-1775908800@www.aviscomunalegenova.it
SUMMARY:VIA CANEPARI
DESCRIPTION:
URL:https://www.aviscomunalegenova.it/event/via-canepari-5/
LOCATION:Via Canepari\, Via Canepari\, Genova\, GE\, 16137\, Italy
CATEGORIES:Sangue
END:VEVENT
BEGIN:VEVENT
DTSTART;TZID=UTC:20260411T083000
DTEND;TZID=UTC:20260411T180000
DTSTAMP:20260421T175619
CREATED:20260317T083545Z
LAST-MODIFIED:20260317T083545Z
UID:3829-1775896200-1775930400@www.aviscomunalegenova.it
SUMMARY:FIUMARA
DESCRIPTION:
URL:https://www.aviscomunalegenova.it/event/fiumara-19/
LOCATION:Via alla Fiumara\, 15
CATEGORIES:Sangue
END:VEVENT
BEGIN:VEVENT
DTSTART;TZID=UTC:20260412T080000
DTEND;TZID=UTC:20260412T120000
DTSTAMP:20260421T175619
CREATED:20260317T083620Z
LAST-MODIFIED:20260317T083620Z
UID:3831-1775980800-1775995200@www.aviscomunalegenova.it
SUMMARY:PIAZZA STURLA
DESCRIPTION:
URL:https://www.aviscomunalegenova.it/event/piazza-sturla-2/
LOCATION:Piazza Sturla
CATEGORIES:Sangue
END:VEVENT
BEGIN:VEVENT
DTSTART;TZID=UTC:20260412T083000
DTEND;TZID=UTC:20260412T123000
DTSTAMP:20260421T175619
CREATED:20260317T083737Z
LAST-MODIFIED:20260317T083737Z
UID:3833-1775982600-1775997000@www.aviscomunalegenova.it
SUMMARY:BOLZANETO - ipercoop
DESCRIPTION:
URL:https://www.aviscomunalegenova.it/event/bolzaneto-ipercoop/
LOCATION:Via Romairone\, 10
CATEGORIES:Sangue
END:VEVENT
BEGIN:VEVENT
DTSTART;TZID=UTC:20260413T140000
DTEND;TZID=UTC:20260413T180000
DTSTAMP:20260421T175619
CREATED:20260316T100529Z
LAST-MODIFIED:20260316T100529Z
UID:3763-1776088800-1776103200@www.aviscomunalegenova.it
SUMMARY:CT San Martino
DESCRIPTION:
URL:https://www.aviscomunalegenova.it/event/ct-san-martino-51/
LOCATION:Largo Rosanna Benzi\, 10\, Padiglione Monoblocco - Centro trasfusionale Ospedale San Martino
CATEGORIES:Plasma,Sangue
END:VEVENT
BEGIN:VEVENT
DTSTART;TZID=UTC:20260415T073000
DTEND;TZID=UTC:20260415T120000
DTSTAMP:20260421T175619
CREATED:20260316T105800Z
LAST-MODIFIED:20260316T105800Z
UID:3778-1776238200-1776254400@www.aviscomunalegenova.it
SUMMARY:PIAZZA F. MAROSE
DESCRIPTION:
URL:https://www.aviscomunalegenova.it/event/piazza-f-marose-21/
LOCATION:Piazza Fontane Marose
CATEGORIES:Sangue
END:VEVENT
BEGIN:VEVENT
DTSTART;TZID=UTC:20260416T080000
DTEND;TZID=UTC:20260416T120000
DTSTAMP:20260421T175619
CREATED:20260317T083820Z
LAST-MODIFIED:20260317T083820Z
UID:3835-1776326400-1776340800@www.aviscomunalegenova.it
SUMMARY:PIAZZA RISSOTTO
DESCRIPTION:
URL:https://www.aviscomunalegenova.it/event/piazza-rissotto-5/
LOCATION:Piazza Rissotto\, Piazza Rissotto\, Genova\, GE\, 16162\, Italy
CATEGORIES:Sangue
END:VEVENT
BEGIN:VEVENT
DTSTART;TZID=UTC:20260416T080000
DTEND;TZID=UTC:20260416T120000
DTSTAMP:20260421T175619
CREATED:20260317T083907Z
LAST-MODIFIED:20260317T083907Z
UID:3837-1776326400-1776340800@www.aviscomunalegenova.it
SUMMARY:PEGLI - lungomare
DESCRIPTION:
URL:https://www.aviscomunalegenova.it/event/pegli-lungomare-7/
LOCATION:Lungomare di Pegli
CATEGORIES:Sangue
END:VEVENT
BEGIN:VEVENT
DTSTART;TZID=UTC:20260418T073000
DTEND;TZID=UTC:20260418T123000
DTSTAMP:20260421T175619
CREATED:20260317T083329Z
LAST-MODIFIED:20260317T083329Z
UID:3823-1776497400-1776515400@www.aviscomunalegenova.it
SUMMARY:VOLTRI - sede
DESCRIPTION:
URL:https://www.aviscomunalegenova.it/event/voltri-sede-2/
LOCATION:Vico Limisso\, 4/4
CATEGORIES:Plasma,Sangue
END:VEVENT
BEGIN:VEVENT
DTSTART;TZID=UTC:20260418T080000
DTEND;TZID=UTC:20260418T120000
DTSTAMP:20260421T175619
CREATED:20260317T082911Z
LAST-MODIFIED:20260317T082911Z
UID:3813-1776499200-1776513600@www.aviscomunalegenova.it
SUMMARY:SESTRI PONENTE
DESCRIPTION:
URL:https://www.aviscomunalegenova.it/event/sestri-ponente-54/
LOCATION:Via Sestri\, 35
CATEGORIES:Sangue
END:VEVENT
BEGIN:VEVENT
DTSTART;TZID=UTC:20260420T140000
DTEND;TZID=UTC:20260420T180000
DTSTAMP:20260421T175619
CREATED:20260316T100607Z
LAST-MODIFIED:20260316T100730Z
UID:3765-1776693600-1776708000@www.aviscomunalegenova.it
SUMMARY:CT San Martino
DESCRIPTION:
URL:https://www.aviscomunalegenova.it/event/ct-san-martino-52/
LOCATION:Largo Rosanna Benzi\, 10\, Padiglione Monoblocco - Centro trasfusionale Ospedale San Martino
CATEGORIES:Plasma,Sangue
END:VEVENT
END:VCALENDAR