BEGIN:VCALENDAR
VERSION:2.0
PRODID:-//AvisComunaleGenova - ECPv6.11.2//NONSGML v1.0//EN
CALSCALE:GREGORIAN
METHOD:PUBLISH
X-ORIGINAL-URL:https://www.aviscomunalegenova.it
X-WR-CALDESC:Events for AvisComunaleGenova
REFRESH-INTERVAL;VALUE=DURATION:PT1H
X-Robots-Tag:noindex
X-PUBLISHED-TTL:PT1H
BEGIN:VTIMEZONE
TZID:UTC
BEGIN:STANDARD
TZOFFSETFROM:+0000
TZOFFSETTO:+0000
TZNAME:UTC
DTSTART:20260101T000000
END:STANDARD
END:VTIMEZONE
BEGIN:VEVENT
DTSTART;TZID=UTC:20260316T140000
DTEND;TZID=UTC:20260316T180000
DTSTAMP:20260420T214008
CREATED:20260316T095506Z
LAST-MODIFIED:20260316T095506Z
UID:3755-1773669600-1773684000@www.aviscomunalegenova.it
SUMMARY:CT San Martino
DESCRIPTION:
URL:https://www.aviscomunalegenova.it/event/ct-san-martino-47/
LOCATION:Largo Rosanna Benzi\, 10\, Padiglione Monoblocco - Centro trasfusionale Ospedale San Martino
CATEGORIES:Plasma,Sangue
END:VEVENT
BEGIN:VEVENT
DTSTART;TZID=UTC:20260323T140000
DTEND;TZID=UTC:20260323T180000
DTSTAMP:20260420T214008
CREATED:20260316T100043Z
LAST-MODIFIED:20260316T100043Z
UID:3757-1774274400-1774288800@www.aviscomunalegenova.it
SUMMARY:CT San Martino
DESCRIPTION:
URL:https://www.aviscomunalegenova.it/event/ct-san-martino-48/
LOCATION:Largo Rosanna Benzi\, 10\, Padiglione Monoblocco - Centro trasfusionale Ospedale San Martino
CATEGORIES:Plasma,Sangue
END:VEVENT
BEGIN:VEVENT
DTSTART;TZID=UTC:20260330T140000
DTEND;TZID=UTC:20260330T180000
DTSTAMP:20260420T214008
CREATED:20260316T100132Z
LAST-MODIFIED:20260316T100132Z
UID:3759-1774879200-1774893600@www.aviscomunalegenova.it
SUMMARY:CT San Martino
DESCRIPTION:
URL:https://www.aviscomunalegenova.it/event/ct-san-martino-49/
LOCATION:Largo Rosanna Benzi\, 10\, Padiglione Monoblocco - Centro trasfusionale Ospedale San Martino
CATEGORIES:Plasma,Sangue
END:VEVENT
BEGIN:VEVENT
DTSTART;TZID=UTC:20260404T073000
DTEND;TZID=UTC:20260404T123000
DTSTAMP:20260420T214008
CREATED:20260317T083231Z
LAST-MODIFIED:20260317T083231Z
UID:3821-1775287800-1775305800@www.aviscomunalegenova.it
SUMMARY:VOLTRI - sede
DESCRIPTION:
URL:https://www.aviscomunalegenova.it/event/voltri-sede/
LOCATION:Vico Limisso\, 4/4
CATEGORIES:Plasma,Sangue
END:VEVENT
BEGIN:VEVENT
DTSTART;TZID=UTC:20260413T140000
DTEND;TZID=UTC:20260413T180000
DTSTAMP:20260420T214008
CREATED:20260316T100529Z
LAST-MODIFIED:20260316T100529Z
UID:3763-1776088800-1776103200@www.aviscomunalegenova.it
SUMMARY:CT San Martino
DESCRIPTION:
URL:https://www.aviscomunalegenova.it/event/ct-san-martino-51/
LOCATION:Largo Rosanna Benzi\, 10\, Padiglione Monoblocco - Centro trasfusionale Ospedale San Martino
CATEGORIES:Plasma,Sangue
END:VEVENT
BEGIN:VEVENT
DTSTART;TZID=UTC:20260418T073000
DTEND;TZID=UTC:20260418T123000
DTSTAMP:20260420T214008
CREATED:20260317T083329Z
LAST-MODIFIED:20260317T083329Z
UID:3823-1776497400-1776515400@www.aviscomunalegenova.it
SUMMARY:VOLTRI - sede
DESCRIPTION:
URL:https://www.aviscomunalegenova.it/event/voltri-sede-2/
LOCATION:Vico Limisso\, 4/4
CATEGORIES:Plasma,Sangue
END:VEVENT
BEGIN:VEVENT
DTSTART;TZID=UTC:20260420T140000
DTEND;TZID=UTC:20260420T180000
DTSTAMP:20260420T214008
CREATED:20260316T100607Z
LAST-MODIFIED:20260316T100730Z
UID:3765-1776693600-1776708000@www.aviscomunalegenova.it
SUMMARY:CT San Martino
DESCRIPTION:
URL:https://www.aviscomunalegenova.it/event/ct-san-martino-52/
LOCATION:Largo Rosanna Benzi\, 10\, Padiglione Monoblocco - Centro trasfusionale Ospedale San Martino
CATEGORIES:Plasma,Sangue
END:VEVENT
BEGIN:VEVENT
DTSTART;TZID=UTC:20260427T140000
DTEND;TZID=UTC:20260427T180000
DTSTAMP:20260420T214008
CREATED:20260316T100834Z
LAST-MODIFIED:20260316T100834Z
UID:3767-1777298400-1777312800@www.aviscomunalegenova.it
SUMMARY:CT San Martino
DESCRIPTION:
URL:https://www.aviscomunalegenova.it/event/ct-san-martino-53/
CATEGORIES:Plasma,Sangue
END:VEVENT
END:VCALENDAR