BEGIN:VCALENDAR
VERSION:2.0
PRODID:-//AvisComunaleGenova - ECPv6.11.2//NONSGML v1.0//EN
CALSCALE:GREGORIAN
METHOD:PUBLISH
X-WR-CALNAME:AvisComunaleGenova
X-ORIGINAL-URL:https://www.aviscomunalegenova.it
X-WR-CALDESC:Events for AvisComunaleGenova
REFRESH-INTERVAL;VALUE=DURATION:PT1H
X-Robots-Tag:noindex
X-PUBLISHED-TTL:PT1H
BEGIN:VTIMEZONE
TZID:UTC
BEGIN:STANDARD
TZOFFSETFROM:+0000
TZOFFSETTO:+0000
TZNAME:UTC
DTSTART:20250101T000000
END:STANDARD
END:VTIMEZONE
BEGIN:VEVENT
DTSTART;TZID=UTC:20251103T140000
DTEND;TZID=UTC:20251103T180000
DTSTAMP:20260420T180110
CREATED:20251024T082137Z
LAST-MODIFIED:20251024T082137Z
UID:3465-1762178400-1762192800@www.aviscomunalegenova.it
SUMMARY:CT San Martino
DESCRIPTION:
URL:https://www.aviscomunalegenova.it/event/ct-san-martino-30/
LOCATION:Largo Rosanna Benzi\, 10\, Padiglione Monoblocco - Centro trasfusionale Ospedale San Martino
CATEGORIES:Plasma,Sangue
END:VEVENT
END:VCALENDAR