BEGIN:VCALENDAR
VERSION:2.0
PRODID:-//AvisComunaleGenova - ECPv6.11.2//NONSGML v1.0//EN
CALSCALE:GREGORIAN
METHOD:PUBLISH
X-WR-CALNAME:AvisComunaleGenova
X-ORIGINAL-URL:https://www.aviscomunalegenova.it
X-WR-CALDESC:Events for AvisComunaleGenova
REFRESH-INTERVAL;VALUE=DURATION:PT1H
X-Robots-Tag:noindex
X-PUBLISHED-TTL:PT1H
BEGIN:VTIMEZONE
TZID:UTC
BEGIN:STANDARD
TZOFFSETFROM:+0000
TZOFFSETTO:+0000
TZNAME:UTC
DTSTART:20250101T000000
END:STANDARD
END:VTIMEZONE
BEGIN:VEVENT
DTSTART;TZID=UTC:20250519T140000
DTEND;TZID=UTC:20250519T180000
DTSTAMP:20260421T022413
CREATED:20250428T084025Z
LAST-MODIFIED:20250509T145959Z
UID:1649-1747663200-1747677600@www.aviscomunalegenova.it
SUMMARY:CT SAN MARTINO
DESCRIPTION:
URL:https://www.aviscomunalegenova.it/event/ct-san-martino-6/
LOCATION:Largo Rosanna Benzi\, 10\, Padiglione Monoblocco - Centro trasfusionale Ospedale San Martino
CATEGORIES:Plasma,Sangue
ORGANIZER;CN="AVIS Comunale Genova":MAILTO:genova.comunale@avis.it
END:VEVENT
END:VCALENDAR