BEGIN:VCALENDAR
VERSION:2.0
PRODID:-//AvisComunaleGenova - ECPv6.11.2//NONSGML v1.0//EN
CALSCALE:GREGORIAN
METHOD:PUBLISH
X-ORIGINAL-URL:https://www.aviscomunalegenova.it
X-WR-CALDESC:Events for AvisComunaleGenova
REFRESH-INTERVAL;VALUE=DURATION:PT1H
X-Robots-Tag:noindex
X-PUBLISHED-TTL:PT1H
BEGIN:VTIMEZONE
TZID:UTC
BEGIN:STANDARD
TZOFFSETFROM:+0000
TZOFFSETTO:+0000
TZNAME:UTC
DTSTART:20260101T000000
END:STANDARD
END:VTIMEZONE
BEGIN:VEVENT
DTSTART;TZID=UTC:20260201T073000
DTEND;TZID=UTC:20260201T123000
DTSTAMP:20260420T094632
CREATED:20251231T105346Z
LAST-MODIFIED:20251231T114359Z
UID:3692-1769931000-1769949000@www.aviscomunalegenova.it
SUMMARY:VOLTRI - Centro Fisso
DESCRIPTION:
URL:https://www.aviscomunalegenova.it/event/voltri-centro-fisso-13/
LOCATION:Vico Limisso\, 4/4
CATEGORIES:Plasma,Sangue
END:VEVENT
BEGIN:VEVENT
DTSTART;TZID=UTC:20260202T140000
DTEND;TZID=UTC:20260202T180000
DTSTAMP:20260420T094632
CREATED:20251231T105457Z
LAST-MODIFIED:20251231T105457Z
UID:3694-1770040800-1770055200@www.aviscomunalegenova.it
SUMMARY:CT San Martino
DESCRIPTION:
URL:https://www.aviscomunalegenova.it/event/ct-san-martino-42/
LOCATION:Largo Rosanna Benzi\, 10\, Padiglione Monoblocco - Centro trasfusionale Ospedale San Martino
CATEGORIES:Plasma,Sangue
END:VEVENT
BEGIN:VEVENT
DTSTART;TZID=UTC:20260209T140000
DTEND;TZID=UTC:20260209T180000
DTSTAMP:20260420T094632
CREATED:20251231T111943Z
LAST-MODIFIED:20251231T111943Z
UID:3721-1770645600-1770660000@www.aviscomunalegenova.it
SUMMARY:CT San Martino
DESCRIPTION:
URL:https://www.aviscomunalegenova.it/event/ct-san-martino-44/
LOCATION:Largo Rosanna Benzi\, 10\, Padiglione Monoblocco - Centro trasfusionale Ospedale San Martino
CATEGORIES:Plasma,Sangue
END:VEVENT
BEGIN:VEVENT
DTSTART;TZID=UTC:20260215T073000
DTEND;TZID=UTC:20260215T123000
DTSTAMP:20260420T094632
CREATED:20251231T111210Z
LAST-MODIFIED:20251231T112209Z
UID:3718-1771140600-1771158600@www.aviscomunalegenova.it
SUMMARY:VOLTRI - Centro Fisso
DESCRIPTION:
URL:https://www.aviscomunalegenova.it/event/voltri-centro-fisso-14/
LOCATION:Vico Limisso\, 4/4
CATEGORIES:Plasma,Sangue
END:VEVENT
BEGIN:VEVENT
DTSTART;TZID=UTC:20260216T140000
DTEND;TZID=UTC:20260216T180000
DTSTAMP:20260420T094632
CREATED:20251231T112248Z
LAST-MODIFIED:20251231T112248Z
UID:3724-1771250400-1771264800@www.aviscomunalegenova.it
SUMMARY:CT San Martino
DESCRIPTION:
URL:https://www.aviscomunalegenova.it/event/ct-san-martino-45/
LOCATION:Largo Rosanna Benzi\, 10\, Padiglione Monoblocco - Centro trasfusionale Ospedale San Martino
CATEGORIES:Plasma,Sangue
END:VEVENT
BEGIN:VEVENT
DTSTART;TZID=UTC:20260223T140000
DTEND;TZID=UTC:20260223T180000
DTSTAMP:20260420T094632
CREATED:20251231T112841Z
LAST-MODIFIED:20251231T112841Z
UID:3736-1771855200-1771869600@www.aviscomunalegenova.it
SUMMARY:CT San Martino
DESCRIPTION:
URL:https://www.aviscomunalegenova.it/event/ct-san-martino-46/
LOCATION:Largo Rosanna Benzi\, 10\, Padiglione Monoblocco - Centro trasfusionale Ospedale San Martino
CATEGORIES:Plasma,Sangue
END:VEVENT
END:VCALENDAR