BEGIN:VCALENDAR
VERSION:2.0
PRODID:-//AvisComunaleGenova - ECPv6.11.2//NONSGML v1.0//EN
CALSCALE:GREGORIAN
METHOD:PUBLISH
X-ORIGINAL-URL:https://www.aviscomunalegenova.it
X-WR-CALDESC:Events for AvisComunaleGenova
REFRESH-INTERVAL;VALUE=DURATION:PT1H
X-Robots-Tag:noindex
X-PUBLISHED-TTL:PT1H
BEGIN:VTIMEZONE
TZID:UTC
BEGIN:STANDARD
TZOFFSETFROM:+0000
TZOFFSETTO:+0000
TZNAME:UTC
DTSTART:20260101T000000
END:STANDARD
END:VTIMEZONE
BEGIN:VEVENT
DTSTART;TZID=UTC:20260104T073000
DTEND;TZID=UTC:20260104T123000
DTSTAMP:20260420T112350
CREATED:20251212T091730Z
LAST-MODIFIED:20251212T091943Z
UID:3637-1767511800-1767529800@www.aviscomunalegenova.it
SUMMARY:VOLTRI - Centro Fisso
DESCRIPTION:
URL:https://www.aviscomunalegenova.it/event/voltri-centro-fisso-11/
LOCATION:Vico Limisso\, 4/4
CATEGORIES:Plasma,Sangue
END:VEVENT
BEGIN:VEVENT
DTSTART;TZID=UTC:20260105T140000
DTEND;TZID=UTC:20260105T180000
DTSTAMP:20260420T112350
CREATED:20251212T091926Z
LAST-MODIFIED:20251212T091926Z
UID:3639-1767621600-1767636000@www.aviscomunalegenova.it
SUMMARY:CT San Martino
DESCRIPTION:
URL:https://www.aviscomunalegenova.it/event/ct-san-martino-38/
LOCATION:Largo Rosanna Benzi\, 10\, Padiglione Monoblocco - Centro trasfusionale Ospedale San Martino
CATEGORIES:Plasma,Sangue
END:VEVENT
BEGIN:VEVENT
DTSTART;TZID=UTC:20260112T140000
DTEND;TZID=UTC:20260112T180000
DTSTAMP:20260420T112350
CREATED:20251212T093908Z
LAST-MODIFIED:20251212T093908Z
UID:3655-1768226400-1768240800@www.aviscomunalegenova.it
SUMMARY:CT San Martino
DESCRIPTION:
URL:https://www.aviscomunalegenova.it/event/ct-san-martino-39/
LOCATION:Largo Rosanna Benzi\, 10\, Padiglione Monoblocco - Centro trasfusionale Ospedale San Martino
CATEGORIES:Plasma,Sangue
END:VEVENT
BEGIN:VEVENT
DTSTART;TZID=UTC:20260117T073000
DTEND;TZID=UTC:20260117T120000
DTSTAMP:20260420T112350
CREATED:20251212T094550Z
LAST-MODIFIED:20251212T094550Z
UID:3667-1768635000-1768651200@www.aviscomunalegenova.it
SUMMARY:VOLTRI - Centro Fisso
DESCRIPTION:
URL:https://www.aviscomunalegenova.it/event/voltri-centro-fisso-12/
LOCATION:Vico Limisso\, 4/4
CATEGORIES:Plasma,Sangue
END:VEVENT
BEGIN:VEVENT
DTSTART;TZID=UTC:20260119T140000
DTEND;TZID=UTC:20260119T180000
DTSTAMP:20260420T112350
CREATED:20251212T094653Z
LAST-MODIFIED:20251212T094653Z
UID:3669-1768831200-1768845600@www.aviscomunalegenova.it
SUMMARY:CT San Martino
DESCRIPTION:
URL:https://www.aviscomunalegenova.it/event/ct-san-martino-40/
LOCATION:Largo Rosanna Benzi\, 10\, Padiglione Monoblocco - Centro trasfusionale Ospedale San Martino
CATEGORIES:Plasma,Sangue
END:VEVENT
BEGIN:VEVENT
DTSTART;TZID=UTC:20260126T140000
DTEND;TZID=UTC:20260126T180000
DTSTAMP:20260420T112350
CREATED:20251212T100027Z
LAST-MODIFIED:20251212T100027Z
UID:3683-1769436000-1769450400@www.aviscomunalegenova.it
SUMMARY:CT San Martino
DESCRIPTION:
URL:https://www.aviscomunalegenova.it/event/ct-san-martino-41/
LOCATION:Largo Rosanna Benzi\, 10\, Padiglione Monoblocco - Centro trasfusionale Ospedale San Martino
CATEGORIES:Plasma,Sangue
END:VEVENT
END:VCALENDAR