BEGIN:VCALENDAR
VERSION:2.0
PRODID:-//AvisComunaleGenova - ECPv6.11.2//NONSGML v1.0//EN
CALSCALE:GREGORIAN
METHOD:PUBLISH
X-WR-CALNAME:AvisComunaleGenova
X-ORIGINAL-URL:https://www.aviscomunalegenova.it
X-WR-CALDESC:Events for AvisComunaleGenova
REFRESH-INTERVAL;VALUE=DURATION:PT1H
X-Robots-Tag:noindex
X-PUBLISHED-TTL:PT1H
BEGIN:VTIMEZONE
TZID:UTC
BEGIN:STANDARD
TZOFFSETFROM:+0000
TZOFFSETTO:+0000
TZNAME:UTC
DTSTART:20250101T000000
END:STANDARD
END:VTIMEZONE
BEGIN:VEVENT
DTSTART;TZID=UTC:20251201T140000
DTEND;TZID=UTC:20251201T180000
DTSTAMP:20260420T130910
CREATED:20251111T111920Z
LAST-MODIFIED:20251111T111920Z
UID:3533-1764597600-1764612000@www.aviscomunalegenova.it
SUMMARY:CT San Martino
DESCRIPTION:
URL:https://www.aviscomunalegenova.it/event/ct-san-martino-34/
LOCATION:Largo Rosanna Benzi\, 10\, Padiglione Monoblocco - Centro trasfusionale Ospedale San Martino
CATEGORIES:Plasma,Sangue
END:VEVENT
BEGIN:VEVENT
DTSTART;TZID=UTC:20251207T073000
DTEND;TZID=UTC:20251207T123000
DTSTAMP:20260420T130910
CREATED:20251111T112419Z
LAST-MODIFIED:20251111T112419Z
UID:3540-1765092600-1765110600@www.aviscomunalegenova.it
SUMMARY:VOLTRI – Centro Fisso
DESCRIPTION:
URL:https://www.aviscomunalegenova.it/event/voltri-centro-fisso-9/
LOCATION:Vico Limisso\, 4/4
CATEGORIES:Plasma,Sangue
END:VEVENT
BEGIN:VEVENT
DTSTART;TZID=UTC:20251215T140000
DTEND;TZID=UTC:20251215T180000
DTSTAMP:20260420T130910
CREATED:20251111T113025Z
LAST-MODIFIED:20251111T113025Z
UID:3546-1765807200-1765821600@www.aviscomunalegenova.it
SUMMARY:CT San Martino
DESCRIPTION:
URL:https://www.aviscomunalegenova.it/event/ct-san-martino-35/
LOCATION:Largo Rosanna Benzi\, 10\, Padiglione Monoblocco - Centro trasfusionale Ospedale San Martino
CATEGORIES:Plasma,Sangue
END:VEVENT
BEGIN:VEVENT
DTSTART;TZID=UTC:20251221T073000
DTEND;TZID=UTC:20251221T123000
DTSTAMP:20260420T130910
CREATED:20251111T113259Z
LAST-MODIFIED:20251111T113259Z
UID:3550-1766302200-1766320200@www.aviscomunalegenova.it
SUMMARY:VOLTRI - Centro Fisso
DESCRIPTION:
URL:https://www.aviscomunalegenova.it/event/voltri-centro-fisso-10/
LOCATION:Vico Limisso\, 4/4
CATEGORIES:Plasma,Sangue
END:VEVENT
BEGIN:VEVENT
DTSTART;TZID=UTC:20251222T140000
DTEND;TZID=UTC:20251222T180000
DTSTAMP:20260420T130910
CREATED:20251111T113351Z
LAST-MODIFIED:20251111T113355Z
UID:3552-1766412000-1766426400@www.aviscomunalegenova.it
SUMMARY:CT San Martino
DESCRIPTION:
URL:https://www.aviscomunalegenova.it/event/ct-san-martino-36/
LOCATION:Largo Rosanna Benzi\, 10\, Padiglione Monoblocco - Centro trasfusionale Ospedale San Martino
CATEGORIES:Plasma,Sangue
END:VEVENT
BEGIN:VEVENT
DTSTART;TZID=UTC:20251229T140000
DTEND;TZID=UTC:20251229T180000
DTSTAMP:20260420T130910
CREATED:20251111T113535Z
LAST-MODIFIED:20251111T113535Z
UID:3556-1767016800-1767031200@www.aviscomunalegenova.it
SUMMARY:CT San Martino
DESCRIPTION:
URL:https://www.aviscomunalegenova.it/event/ct-san-martino-37/
LOCATION:Largo Rosanna Benzi\, 10\, Padiglione Monoblocco - Centro trasfusionale Ospedale San Martino
CATEGORIES:Plasma,Sangue
END:VEVENT
END:VCALENDAR