BEGIN:VCALENDAR
VERSION:2.0
PRODID:-//AvisComunaleGenova - ECPv6.11.2//NONSGML v1.0//EN
CALSCALE:GREGORIAN
METHOD:PUBLISH
X-WR-CALNAME:AvisComunaleGenova
X-ORIGINAL-URL:https://www.aviscomunalegenova.it
X-WR-CALDESC:Events for AvisComunaleGenova
REFRESH-INTERVAL;VALUE=DURATION:PT1H
X-Robots-Tag:noindex
X-PUBLISHED-TTL:PT1H
BEGIN:VTIMEZONE
TZID:UTC
BEGIN:STANDARD
TZOFFSETFROM:+0000
TZOFFSETTO:+0000
TZNAME:UTC
DTSTART:20250101T000000
END:STANDARD
END:VTIMEZONE
BEGIN:VEVENT
DTSTART;TZID=UTC:20250901T140000
DTEND;TZID=UTC:20250901T180000
DTSTAMP:20260420T175716
CREATED:20250814T082027Z
LAST-MODIFIED:20250814T082027Z
UID:3297-1756735200-1756749600@www.aviscomunalegenova.it
SUMMARY:CT San Martino
DESCRIPTION:
URL:https://www.aviscomunalegenova.it/event/ct-san-martino-21/
LOCATION:Largo Rosanna Benzi\, 10\, Padiglione Monoblocco - Centro trasfusionale Ospedale San Martino
CATEGORIES:Plasma,Sangue
END:VEVENT
BEGIN:VEVENT
DTSTART;TZID=UTC:20250907T073000
DTEND;TZID=UTC:20250907T123000
DTSTAMP:20260420T175716
CREATED:20250814T103102Z
LAST-MODIFIED:20250814T103102Z
UID:3333-1757230200-1757248200@www.aviscomunalegenova.it
SUMMARY:VOLTRI - centro fisso
DESCRIPTION:
URL:https://www.aviscomunalegenova.it/event/voltri-centro-fisso-3/
LOCATION:Vico Limisso\, 4/4
CATEGORIES:Plasma,Sangue
END:VEVENT
BEGIN:VEVENT
DTSTART;TZID=UTC:20250908T140000
DTEND;TZID=UTC:20250908T180000
DTSTAMP:20260420T175716
CREATED:20250814T082450Z
LAST-MODIFIED:20250814T082450Z
UID:3299-1757340000-1757354400@www.aviscomunalegenova.it
SUMMARY:CT San Martino
DESCRIPTION:
URL:https://www.aviscomunalegenova.it/event/ct-san-martino-22/
LOCATION:Largo Rosanna Benzi\, 10\, Padiglione Monoblocco - Centro trasfusionale Ospedale San Martino
CATEGORIES:Plasma,Sangue
END:VEVENT
BEGIN:VEVENT
DTSTART;TZID=UTC:20250915T140000
DTEND;TZID=UTC:20250915T180000
DTSTAMP:20260420T175716
CREATED:20250814T082534Z
LAST-MODIFIED:20250814T082534Z
UID:3301-1757944800-1757959200@www.aviscomunalegenova.it
SUMMARY:CT San Martino
DESCRIPTION:
URL:https://www.aviscomunalegenova.it/event/ct-san-martino-23/
LOCATION:Largo Rosanna Benzi\, 10\, Padiglione Monoblocco - Centro trasfusionale Ospedale San Martino
CATEGORIES:Plasma,Sangue
END:VEVENT
BEGIN:VEVENT
DTSTART;TZID=UTC:20250921T073000
DTEND;TZID=UTC:20250921T123000
DTSTAMP:20260420T175716
CREATED:20250814T103152Z
LAST-MODIFIED:20250814T103152Z
UID:3335-1758439800-1758457800@www.aviscomunalegenova.it
SUMMARY:VOLTRI - centro fisso
DESCRIPTION:
URL:https://www.aviscomunalegenova.it/event/voltri-centro-fisso-4/
LOCATION:Vico Limisso\, 4/4
CATEGORIES:Plasma,Sangue
END:VEVENT
BEGIN:VEVENT
DTSTART;TZID=UTC:20250922T140000
DTEND;TZID=UTC:20250922T180000
DTSTAMP:20260420T175716
CREATED:20250814T082631Z
LAST-MODIFIED:20250814T082631Z
UID:3303-1758549600-1758564000@www.aviscomunalegenova.it
SUMMARY:CT San Martino
DESCRIPTION:
URL:https://www.aviscomunalegenova.it/event/ct-san-martino-24/
LOCATION:Largo Rosanna Benzi\, 10\, Padiglione Monoblocco - Centro trasfusionale Ospedale San Martino
CATEGORIES:Plasma,Sangue
END:VEVENT
BEGIN:VEVENT
DTSTART;TZID=UTC:20250929T140000
DTEND;TZID=UTC:20250929T180000
DTSTAMP:20260420T175716
CREATED:20250814T082711Z
LAST-MODIFIED:20250814T082711Z
UID:3305-1759154400-1759168800@www.aviscomunalegenova.it
SUMMARY:CT San Martino
DESCRIPTION:
URL:https://www.aviscomunalegenova.it/event/ct-san-martino-25/
LOCATION:Largo Rosanna Benzi\, 10\, Padiglione Monoblocco - Centro trasfusionale Ospedale San Martino
CATEGORIES:Plasma,Sangue
END:VEVENT
END:VCALENDAR