BEGIN:VCALENDAR
VERSION:2.0
PRODID:-//AvisComunaleGenova - ECPv6.11.2//NONSGML v1.0//EN
CALSCALE:GREGORIAN
METHOD:PUBLISH
X-WR-CALNAME:AvisComunaleGenova
X-ORIGINAL-URL:https://www.aviscomunalegenova.it
X-WR-CALDESC:Events for AvisComunaleGenova
REFRESH-INTERVAL;VALUE=DURATION:PT1H
X-Robots-Tag:noindex
X-PUBLISHED-TTL:PT1H
BEGIN:VTIMEZONE
TZID:UTC
BEGIN:STANDARD
TZOFFSETFROM:+0000
TZOFFSETTO:+0000
TZNAME:UTC
DTSTART:20250101T000000
END:STANDARD
END:VTIMEZONE
BEGIN:VEVENT
DTSTART;TZID=UTC:20250706T073000
DTEND;TZID=UTC:20250706T123000
DTSTAMP:20260420T211410
CREATED:20250618T114537Z
LAST-MODIFIED:20250618T114537Z
UID:3175-1751787000-1751805000@www.aviscomunalegenova.it
SUMMARY:VOLTRI
DESCRIPTION:
URL:https://www.aviscomunalegenova.it/event/voltri-7/
LOCATION:Vico Limisso\, 4/4
CATEGORIES:Plasma,Sangue
ORGANIZER;CN="AVIS Comunale Genova":MAILTO:genova.comunale@avis.it
END:VEVENT
BEGIN:VEVENT
DTSTART;TZID=UTC:20250707T140000
DTEND;TZID=UTC:20250707T180000
DTSTAMP:20260420T211410
CREATED:20250618T114934Z
LAST-MODIFIED:20250618T114934Z
UID:3180-1751896800-1751911200@www.aviscomunalegenova.it
SUMMARY:CT SAN MARTINO
DESCRIPTION:
URL:https://www.aviscomunalegenova.it/event/ct-san-martino-13/
LOCATION:Largo Rosanna Benzi\, 10\, Padiglione Monoblocco - Centro trasfusionale Ospedale San Martino
CATEGORIES:Plasma,Sangue
END:VEVENT
BEGIN:VEVENT
DTSTART;TZID=UTC:20250714T140000
DTEND;TZID=UTC:20250714T180000
DTSTAMP:20260420T211410
CREATED:20250618T120004Z
LAST-MODIFIED:20250618T120004Z
UID:3200-1752501600-1752516000@www.aviscomunalegenova.it
SUMMARY:CT SAN MARTINO
DESCRIPTION:
URL:https://www.aviscomunalegenova.it/event/ct-san-martino-14/
LOCATION:Largo Rosanna Benzi\, 10\, Padiglione Monoblocco - Centro trasfusionale Ospedale San Martino
CATEGORIES:Plasma,Sangue
ORGANIZER;CN="AVIS Comunale Genova":MAILTO:genova.comunale@avis.it
END:VEVENT
BEGIN:VEVENT
DTSTART;TZID=UTC:20250719T073000
DTEND;TZID=UTC:20250719T123000
DTSTAMP:20260420T211410
CREATED:20250618T120238Z
LAST-MODIFIED:20250618T120239Z
UID:3208-1752910200-1752928200@www.aviscomunalegenova.it
SUMMARY:VOLTRI
DESCRIPTION:
URL:https://www.aviscomunalegenova.it/event/voltri-8/
LOCATION:Vico Limisso\, 4/4
CATEGORIES:Plasma,Sangue
ORGANIZER;CN="AVIS Comunale Genova":MAILTO:genova.comunale@avis.it
END:VEVENT
BEGIN:VEVENT
DTSTART;TZID=UTC:20250721T140000
DTEND;TZID=UTC:20250721T180000
DTSTAMP:20260420T211410
CREATED:20250618T120804Z
LAST-MODIFIED:20250618T120804Z
UID:3213-1753106400-1753120800@www.aviscomunalegenova.it
SUMMARY:CT SAN MARTINO
DESCRIPTION:
URL:https://www.aviscomunalegenova.it/event/ct-san-martino-15/
LOCATION:Largo Rosanna Benzi\, 10\, Padiglione Monoblocco - Centro trasfusionale Ospedale San Martino
CATEGORIES:Plasma,Sangue
ORGANIZER;CN="AVIS Comunale Genova":MAILTO:genova.comunale@avis.it
END:VEVENT
BEGIN:VEVENT
DTSTART;TZID=UTC:20250728T140000
DTEND;TZID=UTC:20250728T180000
DTSTAMP:20260420T211410
CREATED:20250618T121408Z
LAST-MODIFIED:20250618T121408Z
UID:3230-1753711200-1753725600@www.aviscomunalegenova.it
SUMMARY:CT SAN MARTINO
DESCRIPTION:
URL:https://www.aviscomunalegenova.it/event/ct-san-martino-16/
LOCATION:Largo Rosanna Benzi\, 10\, Padiglione Monoblocco - Centro trasfusionale Ospedale San Martino
CATEGORIES:Plasma,Sangue
ORGANIZER;CN="AVIS Comunale Genova":MAILTO:genova.comunale@avis.it
END:VEVENT
END:VCALENDAR