BEGIN:VCALENDAR
VERSION:2.0
PRODID:-//AvisComunaleGenova - ECPv6.11.2//NONSGML v1.0//EN
CALSCALE:GREGORIAN
METHOD:PUBLISH
X-ORIGINAL-URL:https://www.aviscomunalegenova.it
X-WR-CALDESC:Events for AvisComunaleGenova
REFRESH-INTERVAL;VALUE=DURATION:PT1H
X-Robots-Tag:noindex
X-PUBLISHED-TTL:PT1H
BEGIN:VTIMEZONE
TZID:UTC
BEGIN:STANDARD
TZOFFSETFROM:+0000
TZOFFSETTO:+0000
TZNAME:UTC
DTSTART:20250101T000000
END:STANDARD
END:VTIMEZONE
BEGIN:VEVENT
DTSTART;TZID=UTC:20250601T073000
DTEND;TZID=UTC:20250601T123000
DTSTAMP:20260420T225317
CREATED:20250509T100642Z
LAST-MODIFIED:20250509T142751Z
UID:1785-1748763000-1748781000@www.aviscomunalegenova.it
SUMMARY:VOLTRI
DESCRIPTION:
URL:https://www.aviscomunalegenova.it/event/voltri-6/
LOCATION:Vico Limisso\, 4/4
CATEGORIES:Plasma,Sangue
ORGANIZER;CN="AVIS Comunale Genova":MAILTO:genova.comunale@avis.it
END:VEVENT
BEGIN:VEVENT
DTSTART;TZID=UTC:20250602T140000
DTEND;TZID=UTC:20250602T180000
DTSTAMP:20260420T225317
CREATED:20250509T101152Z
LAST-MODIFIED:20250509T142835Z
UID:1790-1748872800-1748887200@www.aviscomunalegenova.it
SUMMARY:CT SAN MARTINO
DESCRIPTION:
URL:https://www.aviscomunalegenova.it/event/ct-san-martino-8/
LOCATION:Largo Rosanna Benzi\, 10\, Padiglione Monoblocco - Centro trasfusionale Ospedale San Martino
CATEGORIES:Plasma,Sangue
ORGANIZER;CN="AVIS Comunale Genova":MAILTO:genova.comunale@avis.it
END:VEVENT
BEGIN:VEVENT
DTSTART;TZID=UTC:20250609T140000
DTEND;TZID=UTC:20250609T180000
DTSTAMP:20260420T225317
CREATED:20250509T143503Z
LAST-MODIFIED:20250509T143754Z
UID:1833-1749477600-1749492000@www.aviscomunalegenova.it
SUMMARY:CT SAN MARTINO
DESCRIPTION:
URL:https://www.aviscomunalegenova.it/event/ct-san-martino-9/
LOCATION:Largo Rosanna Benzi\, 10\, Padiglione Monoblocco - Centro trasfusionale Ospedale San Martino
CATEGORIES:Plasma,Sangue
ORGANIZER;CN="AVIS Comunale Genova":MAILTO:genova.comunale@avis.it
END:VEVENT
BEGIN:VEVENT
DTSTART;TZID=UTC:20250615T073000
DTEND;TZID=UTC:20250615T123000
DTSTAMP:20260420T225317
CREATED:20250509T144103Z
LAST-MODIFIED:20250509T144103Z
UID:1845-1749972600-1749990600@www.aviscomunalegenova.it
SUMMARY:VOLTRI
DESCRIPTION:
URL:https://www.aviscomunalegenova.it/event/voltri-5/
LOCATION:Vico Limisso\, 4/4
CATEGORIES:Plasma,Sangue
ORGANIZER;CN="AVIS Comunale Genova":MAILTO:genova.comunale@avis.it
END:VEVENT
BEGIN:VEVENT
DTSTART;TZID=UTC:20250616T140000
DTEND;TZID=UTC:20250616T180000
DTSTAMP:20260420T225317
CREATED:20250509T144247Z
LAST-MODIFIED:20250509T144247Z
UID:1847-1750082400-1750096800@www.aviscomunalegenova.it
SUMMARY:CT SAN MARTINO
DESCRIPTION:
URL:https://www.aviscomunalegenova.it/event/ct-san-martino-10/
LOCATION:Largo Rosanna Benzi\, 10\, Padiglione Monoblocco - Centro trasfusionale Ospedale San Martino
CATEGORIES:Plasma,Sangue
ORGANIZER;CN="AVIS Comunale Genova":MAILTO:genova.comunale@avis.it
END:VEVENT
BEGIN:VEVENT
DTSTART;TZID=UTC:20250623T140000
DTEND;TZID=UTC:20250623T180000
DTSTAMP:20260420T225317
CREATED:20250509T144916Z
LAST-MODIFIED:20250509T144916Z
UID:1861-1750687200-1750701600@www.aviscomunalegenova.it
SUMMARY:CT SAN MARTINO
DESCRIPTION:
URL:https://www.aviscomunalegenova.it/event/ct-san-martino-11/
LOCATION:Largo Rosanna Benzi\, 10\, Padiglione Monoblocco - Centro trasfusionale Ospedale San Martino
CATEGORIES:Plasma,Sangue
ORGANIZER;CN="AVIS Comunale Genova":MAILTO:genova.comunale@avis.it
END:VEVENT
BEGIN:VEVENT
DTSTART;TZID=UTC:20250630T140000
DTEND;TZID=UTC:20250630T180000
DTSTAMP:20260420T225317
CREATED:20250509T145414Z
LAST-MODIFIED:20250509T145451Z
UID:1873-1751292000-1751306400@www.aviscomunalegenova.it
SUMMARY:CT SAN MARTINO
DESCRIPTION:
URL:https://www.aviscomunalegenova.it/event/ct-san-martino-12/
LOCATION:Largo Rosanna Benzi\, 10\, Padiglione Monoblocco - Centro trasfusionale Ospedale San Martino
CATEGORIES:Plasma,Sangue
ORGANIZER;CN="AVIS Comunale Genova":MAILTO:genova.comunale@avis.it
END:VEVENT
END:VCALENDAR