BEGIN:VCALENDAR
VERSION:2.0
PRODID:-//AvisComunaleGenova - ECPv6.11.2//NONSGML v1.0//EN
CALSCALE:GREGORIAN
METHOD:PUBLISH
X-ORIGINAL-URL:https://www.aviscomunalegenova.it
X-WR-CALDESC:Events for AvisComunaleGenova
REFRESH-INTERVAL;VALUE=DURATION:PT1H
X-Robots-Tag:noindex
X-PUBLISHED-TTL:PT1H
BEGIN:VTIMEZONE
TZID:UTC
BEGIN:STANDARD
TZOFFSETFROM:+0000
TZOFFSETTO:+0000
TZNAME:UTC
DTSTART:20260101T000000
END:STANDARD
END:VTIMEZONE
BEGIN:VEVENT
DTSTART;TZID=UTC:20260125T080000
DTEND;TZID=UTC:20260125T120000
DTSTAMP:20260421T130833
CREATED:20251212T095324Z
LAST-MODIFIED:20251212T095324Z
UID:3679-1769328000-1769342400@www.aviscomunalegenova.it
SUMMARY:LARGO BOCCARDO
DESCRIPTION:
URL:https://www.aviscomunalegenova.it/event/largo-boccardo-4/
LOCATION:Largo Boccardo\, Largo Paolo Boccardo\, Genova\, GE\, 16138\, Italy
CATEGORIES:Sangue
END:VEVENT
BEGIN:VEVENT
DTSTART;TZID=UTC:20260125T080000
DTEND;TZID=UTC:20260125T120000
DTSTAMP:20260421T130833
CREATED:20251212T095816Z
LAST-MODIFIED:20251212T095816Z
UID:3681-1769328000-1769342400@www.aviscomunalegenova.it
SUMMARY:PEGLI - Centro Fisso
DESCRIPTION:
URL:https://www.aviscomunalegenova.it/event/pegli-centro-fisso-8/
LOCATION:Via Cialli\, 1A
CATEGORIES:Sangue
END:VEVENT
END:VCALENDAR