BEGIN:VCALENDAR
VERSION:2.0
PRODID:-//AvisComunaleGenova - ECPv6.11.2//NONSGML v1.0//EN
CALSCALE:GREGORIAN
METHOD:PUBLISH
X-ORIGINAL-URL:https://www.aviscomunalegenova.it
X-WR-CALDESC:Events for AvisComunaleGenova
REFRESH-INTERVAL;VALUE=DURATION:PT1H
X-Robots-Tag:noindex
X-PUBLISHED-TTL:PT1H
BEGIN:VTIMEZONE
TZID:UTC
BEGIN:STANDARD
TZOFFSETFROM:+0000
TZOFFSETTO:+0000
TZNAME:UTC
DTSTART:20260101T000000
END:STANDARD
END:VTIMEZONE
BEGIN:VEVENT
DTSTART;TZID=UTC:20260113T093000
DTEND;TZID=UTC:20260113T140000
DTSTAMP:20260421T132752
CREATED:20251212T094030Z
LAST-MODIFIED:20251212T094030Z
UID:3657-1768296600-1768312800@www.aviscomunalegenova.it
SUMMARY:MOG - Via Galata
DESCRIPTION:
URL:https://www.aviscomunalegenova.it/event/mog-via-galata-7/
LOCATION:Via Galata
CATEGORIES:Sangue
END:VEVENT
END:VCALENDAR