BEGIN:VCALENDAR
VERSION:2.0
PRODID:-//AvisComunaleGenova - ECPv6.11.2//NONSGML v1.0//EN
CALSCALE:GREGORIAN
METHOD:PUBLISH
X-ORIGINAL-URL:https://www.aviscomunalegenova.it
X-WR-CALDESC:Events for AvisComunaleGenova
REFRESH-INTERVAL;VALUE=DURATION:PT1H
X-Robots-Tag:noindex
X-PUBLISHED-TTL:PT1H
BEGIN:VTIMEZONE
TZID:UTC
BEGIN:STANDARD
TZOFFSETFROM:+0000
TZOFFSETTO:+0000
TZNAME:UTC
DTSTART:20260101T000000
END:STANDARD
END:VTIMEZONE
BEGIN:VEVENT
DTSTART;TZID=UTC:20260111T080000
DTEND;TZID=UTC:20260111T120000
DTSTAMP:20260421T132753
CREATED:20251212T093707Z
LAST-MODIFIED:20251212T093707Z
UID:3651-1768118400-1768132800@www.aviscomunalegenova.it
SUMMARY:BOCCADASSE
DESCRIPTION:
URL:https://www.aviscomunalegenova.it/event/boccadasse-4/
LOCATION:Corso Italia\, Corso Italia 1\, Genova\, GE\, 16146\, Italy
CATEGORIES:Sangue
END:VEVENT
BEGIN:VEVENT
DTSTART;TZID=UTC:20260111T083000
DTEND;TZID=UTC:20260111T123000
DTSTAMP:20260421T132753
CREATED:20251212T093811Z
LAST-MODIFIED:20251212T093811Z
UID:3653-1768120200-1768134600@www.aviscomunalegenova.it
SUMMARY:IPERCOOP Bolzaneto
DESCRIPTION:
URL:https://www.aviscomunalegenova.it/event/ipercoop-bolzaneto-16/
LOCATION:Via Romairone\, 10
CATEGORIES:Sangue
END:VEVENT
END:VCALENDAR