BEGIN:VCALENDAR
VERSION:2.0
PRODID:-//AvisComunaleGenova - ECPv6.11.2//NONSGML v1.0//EN
CALSCALE:GREGORIAN
METHOD:PUBLISH
X-ORIGINAL-URL:https://www.aviscomunalegenova.it
X-WR-CALDESC:Events for AvisComunaleGenova
REFRESH-INTERVAL;VALUE=DURATION:PT1H
X-Robots-Tag:noindex
X-PUBLISHED-TTL:PT1H
BEGIN:VTIMEZONE
TZID:UTC
BEGIN:STANDARD
TZOFFSETFROM:+0000
TZOFFSETTO:+0000
TZNAME:UTC
DTSTART:20250101T000000
END:STANDARD
END:VTIMEZONE
BEGIN:VEVENT
DTSTART;TZID=UTC:20251230T080000
DTEND;TZID=UTC:20251230T120000
DTSTAMP:20260421T143529
CREATED:20251111T122357Z
LAST-MODIFIED:20251111T122357Z
UID:3582-1767081600-1767096000@www.aviscomunalegenova.it
SUMMARY:NERVI CROCE
DESCRIPTION:
URL:https://www.aviscomunalegenova.it/event/nervi-croce-2/
LOCATION:Via Guglielmo Oberdan\, 105r\, Pubblica Assistenza Nerviese
CATEGORIES:Sangue
END:VEVENT
END:VCALENDAR