BEGIN:VCALENDAR
VERSION:2.0
PRODID:-//AvisComunaleGenova - ECPv6.11.2//NONSGML v1.0//EN
CALSCALE:GREGORIAN
METHOD:PUBLISH
X-WR-CALNAME:AvisComunaleGenova
X-ORIGINAL-URL:https://www.aviscomunalegenova.it
X-WR-CALDESC:Events for AvisComunaleGenova
REFRESH-INTERVAL;VALUE=DURATION:PT1H
X-Robots-Tag:noindex
X-PUBLISHED-TTL:PT1H
BEGIN:VTIMEZONE
TZID:UTC
BEGIN:STANDARD
TZOFFSETFROM:+0000
TZOFFSETTO:+0000
TZNAME:UTC
DTSTART:20250101T000000
END:STANDARD
END:VTIMEZONE
BEGIN:VEVENT
DTSTART;TZID=UTC:20251218T080000
DTEND;TZID=UTC:20251218T120000
DTSTAMP:20260421T151803
CREATED:20251112T111855Z
LAST-MODIFIED:20251128T101326Z
UID:3607-1766044800-1766059200@www.aviscomunalegenova.it
SUMMARY:BAR TRE CORONE
DESCRIPTION:
URL:https://www.aviscomunalegenova.it/event/sestri-ponente-41/
LOCATION:Via dei Marini\, 2
CATEGORIES:Sangue
END:VEVENT
END:VCALENDAR