BEGIN:VCALENDAR
VERSION:2.0
PRODID:-//AvisComunaleGenova - ECPv6.11.2//NONSGML v1.0//EN
CALSCALE:GREGORIAN
METHOD:PUBLISH
X-WR-CALNAME:AvisComunaleGenova
X-ORIGINAL-URL:https://www.aviscomunalegenova.it
X-WR-CALDESC:Events for AvisComunaleGenova
REFRESH-INTERVAL;VALUE=DURATION:PT1H
X-Robots-Tag:noindex
X-PUBLISHED-TTL:PT1H
BEGIN:VTIMEZONE
TZID:UTC
BEGIN:STANDARD
TZOFFSETFROM:+0000
TZOFFSETTO:+0000
TZNAME:UTC
DTSTART:20250101T000000
END:STANDARD
END:VTIMEZONE
BEGIN:VEVENT
DTSTART;TZID=UTC:20251216T080000
DTEND;TZID=UTC:20251216T120000
DTSTAMP:20260421T151805
CREATED:20251111T112708Z
LAST-MODIFIED:20251111T112747Z
UID:3542-1765872000-1765886400@www.aviscomunalegenova.it
SUMMARY:IIT
DESCRIPTION:
URL:https://www.aviscomunalegenova.it/event/iit-8/
LOCATION:Via Morego\, 30
CATEGORIES:Sangue
END:VEVENT
BEGIN:VEVENT
DTSTART;TZID=UTC:20251216T140000
DTEND;TZID=UTC:20251216T180000
DTSTAMP:20260421T151805
CREATED:20251128T100611Z
LAST-MODIFIED:20251128T100611Z
UID:3627-1765893600-1765908000@www.aviscomunalegenova.it
SUMMARY:SESTRI PONENTE
DESCRIPTION:
URL:https://www.aviscomunalegenova.it/event/sestri-ponente-38/
LOCATION:Via Sestri\, 35
CATEGORIES:Sangue
END:VEVENT
END:VCALENDAR