BEGIN:VCALENDAR
VERSION:2.0
PRODID:-//AvisComunaleGenova - ECPv6.11.2//NONSGML v1.0//EN
CALSCALE:GREGORIAN
METHOD:PUBLISH
X-WR-CALNAME:AvisComunaleGenova
X-ORIGINAL-URL:https://www.aviscomunalegenova.it
X-WR-CALDESC:Events for AvisComunaleGenova
REFRESH-INTERVAL;VALUE=DURATION:PT1H
X-Robots-Tag:noindex
X-PUBLISHED-TTL:PT1H
BEGIN:VTIMEZONE
TZID:UTC
BEGIN:STANDARD
TZOFFSETFROM:+0000
TZOFFSETTO:+0000
TZNAME:UTC
DTSTART:20250101T000000
END:STANDARD
END:VTIMEZONE
BEGIN:VEVENT
DTSTART;TZID=UTC:20251115T080000
DTEND;TZID=UTC:20251115T120000
DTSTAMP:20260421T164956
CREATED:20251024T091336Z
LAST-MODIFIED:20251024T092428Z
UID:3493-1763193600-1763208000@www.aviscomunalegenova.it
SUMMARY:SESTRI PONENTE
DESCRIPTION:
URL:https://www.aviscomunalegenova.it/event/sestri-ponente-35/
LOCATION:Via Sestri\, 35
CATEGORIES:Sangue
END:VEVENT
BEGIN:VEVENT
DTSTART;TZID=UTC:20251115T083000
DTEND;TZID=UTC:20251115T123000
DTSTAMP:20260421T164956
CREATED:20251024T091459Z
LAST-MODIFIED:20251024T092453Z
UID:3495-1763195400-1763209800@www.aviscomunalegenova.it
SUMMARY:DAVAGNA CROCE
DESCRIPTION:
URL:https://www.aviscomunalegenova.it/event/davagna-croce/
LOCATION:Via Sottana\, 9
CATEGORIES:Sangue
END:VEVENT
END:VCALENDAR