BEGIN:VCALENDAR
VERSION:2.0
PRODID:-//AvisComunaleGenova - ECPv6.11.2//NONSGML v1.0//EN
CALSCALE:GREGORIAN
METHOD:PUBLISH
X-WR-CALNAME:AvisComunaleGenova
X-ORIGINAL-URL:https://www.aviscomunalegenova.it
X-WR-CALDESC:Events for AvisComunaleGenova
REFRESH-INTERVAL;VALUE=DURATION:PT1H
X-Robots-Tag:noindex
X-PUBLISHED-TTL:PT1H
BEGIN:VTIMEZONE
TZID:UTC
BEGIN:STANDARD
TZOFFSETFROM:+0000
TZOFFSETTO:+0000
TZNAME:UTC
DTSTART:20250101T000000
END:STANDARD
END:VTIMEZONE
BEGIN:VEVENT
DTSTART;TZID=UTC:20251018T073000
DTEND;TZID=UTC:20251018T123000
DTSTAMP:20260421T181654
CREATED:20250919T083335Z
LAST-MODIFIED:20250919T083335Z
UID:3428-1760772600-1760790600@www.aviscomunalegenova.it
SUMMARY:VOLTRI - Centro fisso
DESCRIPTION:
URL:https://www.aviscomunalegenova.it/event/voltri-centro-fisso-6/
LOCATION:Vico Limisso\, 4/4
CATEGORIES:Plasma,Sangue
END:VEVENT
BEGIN:VEVENT
DTSTART;TZID=UTC:20251018T080000
DTEND;TZID=UTC:20251018T120000
DTSTAMP:20260421T181654
CREATED:20250919T083147Z
LAST-MODIFIED:20250919T083147Z
UID:3426-1760774400-1760788800@www.aviscomunalegenova.it
SUMMARY:SESTRI PONENTE
DESCRIPTION:
URL:https://www.aviscomunalegenova.it/event/sestri-ponente-31/
LOCATION:Via Sestri\, 35
CATEGORIES:Sangue
END:VEVENT
END:VCALENDAR