BEGIN:VCALENDAR
VERSION:2.0
PRODID:-//AvisComunaleGenova - ECPv6.11.2//NONSGML v1.0//EN
CALSCALE:GREGORIAN
METHOD:PUBLISH
X-ORIGINAL-URL:https://www.aviscomunalegenova.it
X-WR-CALDESC:Events for AvisComunaleGenova
REFRESH-INTERVAL;VALUE=DURATION:PT1H
X-Robots-Tag:noindex
X-PUBLISHED-TTL:PT1H
BEGIN:VTIMEZONE
TZID:UTC
BEGIN:STANDARD
TZOFFSETFROM:+0000
TZOFFSETTO:+0000
TZNAME:UTC
DTSTART:20250101T000000
END:STANDARD
END:VTIMEZONE
BEGIN:VEVENT
DTSTART;TZID=UTC:20251005T073000
DTEND;TZID=UTC:20251005T123000
DTSTAMP:20260421T181815
CREATED:20250919T075736Z
LAST-MODIFIED:20250919T075736Z
UID:3386-1759649400-1759667400@www.aviscomunalegenova.it
SUMMARY:VOLTRI - Centro fisso
DESCRIPTION:
URL:https://www.aviscomunalegenova.it/event/voltri-centro-fisso-5/
LOCATION:Vico Limisso\, 4/4
CATEGORIES:Plasma,Sangue
END:VEVENT
BEGIN:VEVENT
DTSTART;TZID=UTC:20251005T090000
DTEND;TZID=UTC:20251005T130000
DTSTAMP:20260421T181815
CREATED:20250919T075434Z
LAST-MODIFIED:20250919T075434Z
UID:3383-1759654800-1759669200@www.aviscomunalegenova.it
SUMMARY:ROVEGNO - Sagra della patata
DESCRIPTION:
URL:https://www.aviscomunalegenova.it/event/rovegno-sagra-della-patata/
LOCATION:Rovegno
CATEGORIES:Sangue
END:VEVENT
END:VCALENDAR