BEGIN:VCALENDAR
VERSION:2.0
PRODID:-//AvisComunaleGenova - ECPv6.11.2//NONSGML v1.0//EN
CALSCALE:GREGORIAN
METHOD:PUBLISH
X-ORIGINAL-URL:https://www.aviscomunalegenova.it
X-WR-CALDESC:Events for AvisComunaleGenova
REFRESH-INTERVAL;VALUE=DURATION:PT1H
X-Robots-Tag:noindex
X-PUBLISHED-TTL:PT1H
BEGIN:VTIMEZONE
TZID:UTC
BEGIN:STANDARD
TZOFFSETFROM:+0000
TZOFFSETTO:+0000
TZNAME:UTC
DTSTART:20250101T000000
END:STANDARD
END:VTIMEZONE
BEGIN:VEVENT
DTSTART;TZID=UTC:20251004T080000
DTEND;TZID=UTC:20251004T120000
DTSTAMP:20260421T182328
CREATED:20250919T074026Z
LAST-MODIFIED:20250919T074651Z
UID:3377-1759564800-1759579200@www.aviscomunalegenova.it
SUMMARY:SESTRI PONENTE
DESCRIPTION:
URL:https://www.aviscomunalegenova.it/event/sestri-ponente-29/
LOCATION:Via Sestri\, 35
CATEGORIES:Sangue
END:VEVENT
BEGIN:VEVENT
DTSTART;TZID=UTC:20251004T080000
DTEND;TZID=UTC:20251004T120000
DTSTAMP:20260421T182328
CREATED:20250919T074342Z
LAST-MODIFIED:20250919T074846Z
UID:3380-1759564800-1759579200@www.aviscomunalegenova.it
SUMMARY:VIA CANEPARI
DESCRIPTION:
URL:https://www.aviscomunalegenova.it/event/via-canepari-3/
LOCATION:Via Canepari\, Via Canepari\, Genova\, GE\, 16137\, Italy
CATEGORIES:Sangue
END:VEVENT
END:VCALENDAR