BEGIN:VCALENDAR
VERSION:2.0
PRODID:-//AvisComunaleGenova - ECPv6.11.2//NONSGML v1.0//EN
CALSCALE:GREGORIAN
METHOD:PUBLISH
X-WR-CALNAME:AvisComunaleGenova
X-ORIGINAL-URL:https://www.aviscomunalegenova.it
X-WR-CALDESC:Events for AvisComunaleGenova
REFRESH-INTERVAL;VALUE=DURATION:PT1H
X-Robots-Tag:noindex
X-PUBLISHED-TTL:PT1H
BEGIN:VTIMEZONE
TZID:UTC
BEGIN:STANDARD
TZOFFSETFROM:+0000
TZOFFSETTO:+0000
TZNAME:UTC
DTSTART:20250101T000000
END:STANDARD
END:VTIMEZONE
BEGIN:VEVENT
DTSTART;TZID=UTC:20250926T073000
DTEND;TZID=UTC:20250926T113000
DTSTAMP:20260421T193755
CREATED:20250814T104443Z
LAST-MODIFIED:20250814T104443Z
UID:3359-1758871800-1758886200@www.aviscomunalegenova.it
SUMMARY:ARENZANO
DESCRIPTION:
URL:https://www.aviscomunalegenova.it/event/arenzano-6/
LOCATION:Via Bocca
CATEGORIES:Sangue
END:VEVENT
BEGIN:VEVENT
DTSTART;TZID=UTC:20250926T080000
DTEND;TZID=UTC:20250926T120000
DTSTAMP:20260421T193755
CREATED:20250814T104614Z
LAST-MODIFIED:20250814T104614Z
UID:3361-1758873600-1758888000@www.aviscomunalegenova.it
SUMMARY:NERVI - Croce
DESCRIPTION:
URL:https://www.aviscomunalegenova.it/event/nervi-croce/
LOCATION:Via Guglielmo Oberdan\, 105r\, Pubblica Assistenza Nerviese
CATEGORIES:Sangue
END:VEVENT
END:VCALENDAR