BEGIN:VCALENDAR
VERSION:2.0
PRODID:-//AvisComunaleGenova - ECPv6.11.2//NONSGML v1.0//EN
CALSCALE:GREGORIAN
METHOD:PUBLISH
X-ORIGINAL-URL:https://www.aviscomunalegenova.it
X-WR-CALDESC:Events for AvisComunaleGenova
REFRESH-INTERVAL;VALUE=DURATION:PT1H
X-Robots-Tag:noindex
X-PUBLISHED-TTL:PT1H
BEGIN:VTIMEZONE
TZID:UTC
BEGIN:STANDARD
TZOFFSETFROM:+0000
TZOFFSETTO:+0000
TZNAME:UTC
DTSTART:20250101T000000
END:STANDARD
END:VTIMEZONE
BEGIN:VEVENT
DTSTART;TZID=UTC:20250923T073000
DTEND;TZID=UTC:20250923T120000
DTSTAMP:20260421T194604
CREATED:20250814T103637Z
LAST-MODIFIED:20250814T103637Z
UID:3341-1758612600-1758628800@www.aviscomunalegenova.it
SUMMARY:IIT
DESCRIPTION:
URL:https://www.aviscomunalegenova.it/event/iit-6/
LOCATION:Via Morego\, 30
CATEGORIES:Sangue
END:VEVENT
BEGIN:VEVENT
DTSTART;TZID=UTC:20250923T080000
DTEND;TZID=UTC:20250923T120000
DTSTAMP:20260421T194604
CREATED:20250814T104320Z
LAST-MODIFIED:20250814T104320Z
UID:3357-1758614400-1758628800@www.aviscomunalegenova.it
SUMMARY:VIA V DICEMBRE - SIAT
DESCRIPTION:
URL:https://www.aviscomunalegenova.it/event/via-v-dicembre-siat/
LOCATION:Via V Dicembre\, Via V Dicembre 3\, Genova\, GE\, 16121\, Italy
CATEGORIES:Sangue
END:VEVENT
END:VCALENDAR