BEGIN:VCALENDAR
VERSION:2.0
PRODID:-//AvisComunaleGenova - ECPv6.11.2//NONSGML v1.0//EN
CALSCALE:GREGORIAN
METHOD:PUBLISH
X-ORIGINAL-URL:https://www.aviscomunalegenova.it
X-WR-CALDESC:Events for AvisComunaleGenova
REFRESH-INTERVAL;VALUE=DURATION:PT1H
X-Robots-Tag:noindex
X-PUBLISHED-TTL:PT1H
BEGIN:VTIMEZONE
TZID:UTC
BEGIN:STANDARD
TZOFFSETFROM:+0000
TZOFFSETTO:+0000
TZNAME:UTC
DTSTART:20250101T000000
END:STANDARD
END:VTIMEZONE
BEGIN:VEVENT
DTSTART;TZID=UTC:20250905T073000
DTEND;TZID=UTC:20250905T113000
DTSTAMP:20260421T194540
CREATED:20250814T102553Z
LAST-MODIFIED:20250814T102553Z
UID:3331-1757057400-1757071800@www.aviscomunalegenova.it
SUMMARY:RECCO - Croce
DESCRIPTION:
URL:https://www.aviscomunalegenova.it/event/recco-croce-2/
LOCATION:Via Milite Ignoto\, 17\, Croce Verde Recco
CATEGORIES:Sangue
END:VEVENT
END:VCALENDAR