BEGIN:VCALENDAR
VERSION:2.0
PRODID:-//AvisComunaleGenova - ECPv6.11.2//NONSGML v1.0//EN
CALSCALE:GREGORIAN
METHOD:PUBLISH
X-ORIGINAL-URL:https://www.aviscomunalegenova.it
X-WR-CALDESC:Events for AvisComunaleGenova
REFRESH-INTERVAL;VALUE=DURATION:PT1H
X-Robots-Tag:noindex
X-PUBLISHED-TTL:PT1H
BEGIN:VTIMEZONE
TZID:UTC
BEGIN:STANDARD
TZOFFSETFROM:+0000
TZOFFSETTO:+0000
TZNAME:UTC
DTSTART:20250101T000000
END:STANDARD
END:VTIMEZONE
BEGIN:VEVENT
DTSTART;TZID=UTC:20250827T073000
DTEND;TZID=UTC:20250827T110000
DTSTAMP:20260421T205312
CREATED:20250716T133119Z
LAST-MODIFIED:20250716T133119Z
UID:3254-1756279800-1756292400@www.aviscomunalegenova.it
SUMMARY:PIAZZA FONTANER MAROSE
DESCRIPTION:
URL:https://www.aviscomunalegenova.it/event/piazza-fontaner-marose/
LOCATION:Piazza Fontane Marose
CATEGORIES:Sangue
END:VEVENT
END:VCALENDAR