BEGIN:VCALENDAR
VERSION:2.0
PRODID:-//AvisComunaleGenova - ECPv6.11.2//NONSGML v1.0//EN
CALSCALE:GREGORIAN
METHOD:PUBLISH
X-ORIGINAL-URL:https://www.aviscomunalegenova.it
X-WR-CALDESC:Events for AvisComunaleGenova
REFRESH-INTERVAL;VALUE=DURATION:PT1H
X-Robots-Tag:noindex
X-PUBLISHED-TTL:PT1H
BEGIN:VTIMEZONE
TZID:UTC
BEGIN:STANDARD
TZOFFSETFROM:+0000
TZOFFSETTO:+0000
TZNAME:UTC
DTSTART:20250101T000000
END:STANDARD
END:VTIMEZONE
BEGIN:VEVENT
DTSTART;TZID=UTC:20250715T140000
DTEND;TZID=UTC:20250715T180000
DTSTAMP:20260421T224054
CREATED:20250618T120038Z
LAST-MODIFIED:20250618T120038Z
UID:3202-1752588000-1752602400@www.aviscomunalegenova.it
SUMMARY:SESTRI PONENTE
DESCRIPTION:
URL:https://www.aviscomunalegenova.it/event/sestri-ponente-15/
LOCATION:Via Sestri\, 7
CATEGORIES:Sangue
ORGANIZER;CN="AVIS Comunale Genova":MAILTO:genova.comunale@avis.it
END:VEVENT
END:VCALENDAR