BEGIN:VCALENDAR
VERSION:2.0
PRODID:-//AvisComunaleGenova - ECPv6.11.2//NONSGML v1.0//EN
CALSCALE:GREGORIAN
METHOD:PUBLISH
X-ORIGINAL-URL:https://www.aviscomunalegenova.it
X-WR-CALDESC:Events for AvisComunaleGenova
REFRESH-INTERVAL;VALUE=DURATION:PT1H
X-Robots-Tag:noindex
X-PUBLISHED-TTL:PT1H
BEGIN:VTIMEZONE
TZID:UTC
BEGIN:STANDARD
TZOFFSETFROM:+0000
TZOFFSETTO:+0000
TZNAME:UTC
DTSTART:20250101T000000
END:STANDARD
END:VTIMEZONE
BEGIN:VEVENT
DTSTART;TZID=UTC:20250621T080000
DTEND;TZID=UTC:20250621T120000
DTSTAMP:20260422T000814
CREATED:20250509T144709Z
LAST-MODIFIED:20250509T144709Z
UID:1857-1750492800-1750507200@www.aviscomunalegenova.it
SUMMARY:SESTRI PONENTE
DESCRIPTION:
URL:https://www.aviscomunalegenova.it/event/sestri-ponente-11/
LOCATION:Via Sestri\, 7
CATEGORIES:Sangue
ORGANIZER;CN="AVIS Comunale Genova":MAILTO:genova.comunale@avis.it
END:VEVENT
BEGIN:VEVENT
DTSTART;TZID=UTC:20250621T083000
DTEND;TZID=UTC:20250621T180000
DTSTAMP:20260422T000814
CREATED:20250509T143931Z
LAST-MODIFIED:20250513T140027Z
UID:1841-1750494600-1750528800@www.aviscomunalegenova.it
SUMMARY:FIUMARA
DESCRIPTION:
URL:https://www.aviscomunalegenova.it/event/fiumara-5/
LOCATION:Via alla Fiumara\, 15
CATEGORIES:Sangue
ORGANIZER;CN="AVIS Comunale Genova":MAILTO:genova.comunale@avis.it
END:VEVENT
END:VCALENDAR