BEGIN:VCALENDAR
VERSION:2.0
PRODID:-//AvisComunaleGenova - ECPv6.11.2//NONSGML v1.0//EN
CALSCALE:GREGORIAN
METHOD:PUBLISH
X-ORIGINAL-URL:https://www.aviscomunalegenova.it
X-WR-CALDESC:Events for AvisComunaleGenova
REFRESH-INTERVAL;VALUE=DURATION:PT1H
X-Robots-Tag:noindex
X-PUBLISHED-TTL:PT1H
BEGIN:VTIMEZONE
TZID:UTC
BEGIN:STANDARD
TZOFFSETFROM:+0000
TZOFFSETTO:+0000
TZNAME:UTC
DTSTART:20250101T000000
END:STANDARD
END:VTIMEZONE
BEGIN:VEVENT
DTSTART;TZID=UTC:20250617T080000
DTEND;TZID=UTC:20250617T120000
DTSTAMP:20260422T000815
CREATED:20250509T144330Z
LAST-MODIFIED:20250509T144330Z
UID:1849-1750147200-1750161600@www.aviscomunalegenova.it
SUMMARY:IIT
DESCRIPTION:
URL:https://www.aviscomunalegenova.it/event/iit-3/
LOCATION:Via Morego\, 30
CATEGORIES:Sangue
ORGANIZER;CN="AVIS Comunale Genova":MAILTO:genova.comunale@avis.it
END:VEVENT
END:VCALENDAR