BEGIN:VCALENDAR
VERSION:2.0
PRODID:-//AvisComunaleGenova - ECPv6.11.2//NONSGML v1.0//EN
CALSCALE:GREGORIAN
METHOD:PUBLISH
X-WR-CALNAME:AvisComunaleGenova
X-ORIGINAL-URL:https://www.aviscomunalegenova.it
X-WR-CALDESC:Events for AvisComunaleGenova
REFRESH-INTERVAL;VALUE=DURATION:PT1H
X-Robots-Tag:noindex
X-PUBLISHED-TTL:PT1H
BEGIN:VTIMEZONE
TZID:UTC
BEGIN:STANDARD
TZOFFSETFROM:+0000
TZOFFSETTO:+0000
TZNAME:UTC
DTSTART:20250101T000000
END:STANDARD
END:VTIMEZONE
BEGIN:VEVENT
DTSTART;TZID=UTC:20250604T073000
DTEND;TZID=UTC:20250604T120000
DTSTAMP:20260422T000745
CREATED:20250509T140855Z
LAST-MODIFIED:20250509T142919Z
UID:1814-1749022200-1749038400@www.aviscomunalegenova.it
SUMMARY:PIAZZA FONTANE MAROSE
DESCRIPTION:
URL:https://www.aviscomunalegenova.it/event/piazza-fontane-marose-12/
LOCATION:Piazza Fontane Marose
CATEGORIES:Sangue
ORGANIZER;CN="AVIS Comunale Genova":MAILTO:genova.comunale@avis.it
END:VEVENT
BEGIN:VEVENT
DTSTART;TZID=UTC:20250604T140000
DTEND;TZID=UTC:20250604T180000
DTSTAMP:20260422T000745
CREATED:20250509T141246Z
LAST-MODIFIED:20250509T142936Z
UID:1817-1749045600-1749060000@www.aviscomunalegenova.it
SUMMARY:SESTRI PONENTE
DESCRIPTION:
URL:https://www.aviscomunalegenova.it/event/sestri-ponente-9/
LOCATION:Via Sestri\, 7
CATEGORIES:Sangue
ORGANIZER;CN="AVIS Comunale Genova":MAILTO:genova.comunale@avis.it
END:VEVENT
END:VCALENDAR