BEGIN:VCALENDAR
VERSION:2.0
PRODID:-//AvisComunaleGenova - ECPv6.11.2//NONSGML v1.0//EN
CALSCALE:GREGORIAN
METHOD:PUBLISH
X-ORIGINAL-URL:https://www.aviscomunalegenova.it
X-WR-CALDESC:Events for AvisComunaleGenova
REFRESH-INTERVAL;VALUE=DURATION:PT1H
X-Robots-Tag:noindex
X-PUBLISHED-TTL:PT1H
BEGIN:VTIMEZONE
TZID:UTC
BEGIN:STANDARD
TZOFFSETFROM:+0000
TZOFFSETTO:+0000
TZNAME:UTC
DTSTART:20250101T000000
END:STANDARD
END:VTIMEZONE
BEGIN:VEVENT
DTSTART;TZID=UTC:20250517T080000
DTEND;TZID=UTC:20250517T120000
DTSTAMP:20260422T013915
CREATED:20250428T084023Z
LAST-MODIFIED:20250428T084023Z
UID:1645-1747468800-1747483200@www.aviscomunalegenova.it
SUMMARY:SESTRI PONENTE
DESCRIPTION:
URL:https://www.aviscomunalegenova.it/event/sestri-ponente-6/
LOCATION:Via Sestri\, 7
CATEGORIES:Sangue
ORGANIZER;CN="AVIS Comunale Genova":MAILTO:genova.comunale@avis.it
END:VEVENT
BEGIN:VEVENT
DTSTART;TZID=UTC:20250517T083000
DTEND;TZID=UTC:20250517T120000
DTSTAMP:20260422T013915
CREATED:20250428T084024Z
LAST-MODIFIED:20250428T094507Z
UID:1646-1747470600-1747483200@www.aviscomunalegenova.it
SUMMARY:DAVAGNA
DESCRIPTION:
URL:https://www.aviscomunalegenova.it/event/davagna/
LOCATION:Via Sottana\, 9
CATEGORIES:Sangue
ORGANIZER;CN="AVIS Comunale Genova":MAILTO:genova.comunale@avis.it
END:VEVENT
END:VCALENDAR