BEGIN:VCALENDAR
VERSION:2.0
PRODID:-//AvisComunaleGenova - ECPv6.11.2//NONSGML v1.0//EN
CALSCALE:GREGORIAN
METHOD:PUBLISH
X-ORIGINAL-URL:https://www.aviscomunalegenova.it
X-WR-CALDESC:Events for AvisComunaleGenova
REFRESH-INTERVAL;VALUE=DURATION:PT1H
X-Robots-Tag:noindex
X-PUBLISHED-TTL:PT1H
BEGIN:VTIMEZONE
TZID:UTC
BEGIN:STANDARD
TZOFFSETFROM:+0000
TZOFFSETTO:+0000
TZNAME:UTC
DTSTART:20250101T000000
END:STANDARD
END:VTIMEZONE
BEGIN:VEVENT
DTSTART;TZID=UTC:20250514T073000
DTEND;TZID=UTC:20250514T120000
DTSTAMP:20260422T013949
CREATED:20250428T084009Z
LAST-MODIFIED:20250428T100815Z
UID:1643-1747207800-1747224000@www.aviscomunalegenova.it
SUMMARY:PIAZZA FONTANE MAROSE
DESCRIPTION:
URL:https://www.aviscomunalegenova.it/event/piazza-fontane-marose-9/
LOCATION:Piazza Fontane Marose
CATEGORIES:Sangue
ORGANIZER;CN="AVIS Comunale Genova":MAILTO:genova.comunale@avis.it
END:VEVENT
END:VCALENDAR