BEGIN:VCALENDAR
VERSION:2.0
PRODID:-//AvisComunaleGenova - ECPv6.11.2//NONSGML v1.0//EN
CALSCALE:GREGORIAN
METHOD:PUBLISH
X-WR-CALNAME:AvisComunaleGenova
X-ORIGINAL-URL:https://www.aviscomunalegenova.it
X-WR-CALDESC:Events for AvisComunaleGenova
REFRESH-INTERVAL;VALUE=DURATION:PT1H
X-Robots-Tag:noindex
X-PUBLISHED-TTL:PT1H
BEGIN:VTIMEZONE
TZID:Europe/Rome
BEGIN:DAYLIGHT
TZOFFSETFROM:+0100
TZOFFSETTO:+0200
TZNAME:CEST
DTSTART:20250330T010000
END:DAYLIGHT
BEGIN:STANDARD
TZOFFSETFROM:+0200
TZOFFSETTO:+0100
TZNAME:CET
DTSTART:20251026T010000
END:STANDARD
END:VTIMEZONE
BEGIN:VEVENT
DTSTART;TZID=Europe/Rome:20250427T080000
DTEND;TZID=Europe/Rome:20250427T120000
DTSTAMP:20260422T032003
CREATED:20250417T110056Z
LAST-MODIFIED:20250417T110056Z
UID:1356-1745740800-1745755200@www.aviscomunalegenova.it
SUMMARY:LARGO BOCCARDO
DESCRIPTION:
URL:https://www.aviscomunalegenova.it/event/largo-boccardo/
CATEGORIES:Sangue
ORGANIZER;CN="AVIS Comunale Genova":MAILTO:genova.comunale@avis.it
END:VEVENT
BEGIN:VEVENT
DTSTART;TZID=Europe/Rome:20250427T080000
DTEND;TZID=Europe/Rome:20250427T120000
DTSTAMP:20260422T032003
CREATED:20250417T110056Z
LAST-MODIFIED:20250509T151332Z
UID:1357-1745740800-1745755200@www.aviscomunalegenova.it
SUMMARY:PEGLI
DESCRIPTION:
URL:https://www.aviscomunalegenova.it/event/pegli-2/
LOCATION:Via Cialli\, 1A
CATEGORIES:Sangue
ORGANIZER;CN="AVIS Comunale Genova":MAILTO:genova.comunale@avis.it
END:VEVENT
BEGIN:VEVENT
DTSTART;TZID=Europe/Rome:20250427T140000
DTEND;TZID=Europe/Rome:20250427T180000
DTSTAMP:20260422T032003
CREATED:20250417T110057Z
LAST-MODIFIED:20250423T122739Z
UID:1358-1745762400-1745776800@www.aviscomunalegenova.it
SUMMARY:CUS GENOVA
DESCRIPTION:
URL:https://www.aviscomunalegenova.it/event/cus-genova/
CATEGORIES:Sangue
ORGANIZER;CN="AVIS Comunale Genova":MAILTO:genova.comunale@avis.it
END:VEVENT
END:VCALENDAR